BEGIN:VCALENDAR
VERSION:2.0
PRODID:-//New England Intergroup - ECPv6.15.11//NONSGML v1.0//EN
CALSCALE:GREGORIAN
METHOD:PUBLISH
X-WR-CALNAME:New England Intergroup
X-ORIGINAL-URL:https://slaanei.org
X-WR-CALDESC:Events for New England Intergroup
REFRESH-INTERVAL;VALUE=DURATION:PT1H
X-Robots-Tag:noindex
X-PUBLISHED-TTL:PT1H
BEGIN:VTIMEZONE
TZID:America/New_York
BEGIN:DAYLIGHT
TZOFFSETFROM:-0500
TZOFFSETTO:-0400
TZNAME:EDT
DTSTART:20240310T070000
END:DAYLIGHT
BEGIN:STANDARD
TZOFFSETFROM:-0400
TZOFFSETTO:-0500
TZNAME:EST
DTSTART:20241103T060000
END:STANDARD
BEGIN:DAYLIGHT
TZOFFSETFROM:-0500
TZOFFSETTO:-0400
TZNAME:EDT
DTSTART:20250309T070000
END:DAYLIGHT
BEGIN:STANDARD
TZOFFSETFROM:-0400
TZOFFSETTO:-0500
TZNAME:EST
DTSTART:20251102T060000
END:STANDARD
BEGIN:DAYLIGHT
TZOFFSETFROM:-0500
TZOFFSETTO:-0400
TZNAME:EDT
DTSTART:20260308T070000
END:DAYLIGHT
BEGIN:STANDARD
TZOFFSETFROM:-0400
TZOFFSETTO:-0500
TZNAME:EST
DTSTART:20261101T060000
END:STANDARD
END:VTIMEZONE
BEGIN:VEVENT
DTSTART;TZID=America/New_York:20251210T180000
DTEND;TZID=America/New_York:20251210T193000
DTSTAMP:20260423T191955
CREATED:20250118T150501Z
LAST-MODIFIED:20251113T232742Z
UID:7741-1765389600-1765395000@slaanei.org
SUMMARY:NEI Monthly Meeting December 2025- Wed Dec 10th
DESCRIPTION:Topic: Monthly NEI Meeting06:00 PM Eastern Time (US and Canada) \nZoom info please email info@slaanei.org \n 
URL:https://slaanei.org/event/nei-monthly-meeting-dec-25
LOCATION:MA
CATEGORIES:monthly,NEI
END:VEVENT
BEGIN:VEVENT
DTSTART;TZID=America/New_York:20251212T160000
DTEND;TZID=America/New_York:20251214T150000
DTSTAMP:20260423T191955
CREATED:20250728T233056Z
LAST-MODIFIED:20250728T234234Z
UID:7873-1765555200-1765724400@slaanei.org
SUMMARY:S.L.A.A. 12 Step Weekend Retreat – December 12 - 14\, 2025
DESCRIPTION:View Flyer details here: \n2025 December 12 Step Weekend Retreat \nStep study is a key tool to recovery in the S.L.A.A. program:\nAt the retreat weekend we do a study of the 12 Steps–together. If you have\nworked on the Steps in this type of format before\, you already know its value.  If you have not done any study of the Steps\, intensive or otherwise\, this is a great way to do it\, especially the first time. Regardless of where we are in the Step study process\, we can learn from sharing our experience\, strength and hope with each other. \nS.L.A.A. literature we will use for this weekend:\nFor this weekend we will use the new booklet The Twelve Steps of S.L.A.A. in Plain Language. If you need a copy for the weekend\, you can order one in\nadvance\, on the registration form attached. \nSchedule: Group arrival starts Friday afternoon at 4:00PM. The weekend is concluded on Sunday in time for a 12:30pm lunch (which is provided). Departure is no later than 3:00 PM on Sunday. \n(A final detailed schedule will be sent to you prior to the retreat.) \nPrice: $365.00\nDiscount of $20.00 for a total of $345.00 if paid by Deadline Date \nYOUR COST deadline is Friday\, November 28\, 2025 -20.00 DISCOUNT If registration & payment is RECEIVE BY Friday\, November 7\, 2025\nIncludes: 2 nights lodging & 5 buffet-style meals—2 breakfast\, 2 lunches\, & dinner Saturday. \nIf you have any questions\, issues\, or concerns\, please email the Retreat\nCoordinator at 12stepretreat@slaanei.org or call NEI at 617/625-7961 and leave a message for the Retreat Coordinator. Scholarship assistance is available.\nContact NEI for details.\nWe hope you will be able to join us for this very\nspecial weekend! \nFor Reservations:\nTo reserve a space at the retreat\, complete the registration form on the last page of this flyer. You can email the form and make payment via the website—Venmo or credit card payment OR mail it to NEI at the above address. These weekends are only open to anyone who is an S.L.A.A. member or thinks they might benefit from the program. Non-participating guests are NOT allowed. \nSign-Up Early\nPlease sign-up early. NEI is required to provide La Salette with a final list of\nparticipants on Friday\, November 28\, 2025. If we do not have 15 participants\, the retreat may be cancelled.\nNotice NEI may be sharing the space with other lay clergy and workers for the Lights Festival (meals\, sleeping floors). Our sessions are separate and private for anonymity purposes \n 
URL:https://slaanei.org/event/dec2025_12step_weekend_retreat
LOCATION:La Salette Retreat Center\, 947 Park St\, Attleboro\, MA\, 02703\, United States
CATEGORIES:NEI,Retreats,SLAA
END:VEVENT
BEGIN:VEVENT
DTSTART;TZID=America/New_York:20251228T170000
DTEND;TZID=America/New_York:20251228T183000
DTSTAMP:20260423T191955
CREATED:20250225T001017Z
LAST-MODIFIED:20250225T002011Z
UID:7788-1766941200-1766946600@slaanei.org
SUMMARY:Activities Committee Meeting- Dec 2025
DESCRIPTION:Activities Committee Meeting Monthly Meetings\n\nDec 28\, 2025 @ 5:00 pm – 6:30 pm\nThe Activities Committee Regular Meeting is on the fourth (4th) Sunday of each month from 5:00 PM to 6:30 PM via Zoom\n\n\nNEI is inviting you to a scheduled Zoom meeting. \nTopic: NEI Activities committee\nJoin Zoom Meeting\nhttps://us02web.zoom.us/j/3654381821?pwd=K1VmZTZySGpxT2V6NFJlMjhFREJZdz09&omn=86504494290 \nMeeting ID: 365 438 1821\nPasscode: 123123 \n— \nOne tap mobile\n+13052241968\,\,3654381821#\,\,\,\,*123123# US\n+13092053325\,\,3654381821#\,\,\,\,*123123# US \n— \nDial by your location\n• +1 305 224 1968 US\n• +1 309 205 3325 US\n• +1 312 626 6799 US (Chicago)\n• +1 646 931 3860 US\n• +1 929 205 6099 US (New York)\n• +1 301 715 8592 US (Washington DC)\n• +1 689 278 1000 US\n• +1 719 359 4580 US\n• +1 253 205 0468 US\n• +1 253 215 8782 US (Tacoma)\n• +1 346 248 7799 US (Houston)\n• +1 360 209 5623 US\n• +1 386 347 5053 US\n• +1 507 473 4847 US\n• +1 564 217 2000 US\n• +1 669 444 9171 US\n• +1 669 900 6833 US (San Jose) \nMeeting ID: 365 438 1821\nPasscode: 123123 \nFind your local number: https://us02web.zoom.us/u/kcUlI7WSnW \n\n\nThe Activities Committee plans events like the Spring and Fall Gatherings\, 12-step retreats\, the February You are Not Alone event and other fellowship recovery events
URL:https://slaanei.org/event/activities-committee-meeting-dec25
LOCATION:MA
CATEGORIES:NEI,SLAA
END:VEVENT
END:VCALENDAR