BEGIN:VCALENDAR
VERSION:2.0
PRODID:-//New England Intergroup - ECPv6.15.11//NONSGML v1.0//EN
CALSCALE:GREGORIAN
METHOD:PUBLISH
X-WR-CALNAME:New England Intergroup
X-ORIGINAL-URL:https://slaanei.org
X-WR-CALDESC:Events for New England Intergroup
REFRESH-INTERVAL;VALUE=DURATION:PT1H
X-Robots-Tag:noindex
X-PUBLISHED-TTL:PT1H
BEGIN:VTIMEZONE
TZID:America/New_York
BEGIN:DAYLIGHT
TZOFFSETFROM:-0500
TZOFFSETTO:-0400
TZNAME:EDT
DTSTART:20240310T070000
END:DAYLIGHT
BEGIN:STANDARD
TZOFFSETFROM:-0400
TZOFFSETTO:-0500
TZNAME:EST
DTSTART:20241103T060000
END:STANDARD
BEGIN:DAYLIGHT
TZOFFSETFROM:-0500
TZOFFSETTO:-0400
TZNAME:EDT
DTSTART:20250309T070000
END:DAYLIGHT
BEGIN:STANDARD
TZOFFSETFROM:-0400
TZOFFSETTO:-0500
TZNAME:EST
DTSTART:20251102T060000
END:STANDARD
BEGIN:DAYLIGHT
TZOFFSETFROM:-0500
TZOFFSETTO:-0400
TZNAME:EDT
DTSTART:20260308T070000
END:DAYLIGHT
BEGIN:STANDARD
TZOFFSETFROM:-0400
TZOFFSETTO:-0500
TZNAME:EST
DTSTART:20261101T060000
END:STANDARD
END:VTIMEZONE
BEGIN:VEVENT
DTSTART;TZID=America/New_York:20251108T110000
DTEND;TZID=America/New_York:20251108T160000
DTSTAMP:20260423T210203
CREATED:20250923T213421Z
LAST-MODIFIED:20251001T231158Z
UID:7909-1762599600-1762617600@slaanei.org
SUMMARY:Fall Gathering 2025
DESCRIPTION:Fall Gathering 2025\n\n\nSaturday November 8\, 2025 11:00am – 4:00pm (EST)New England Intergroup (NEI) of Sex and Love Addicts Anonymous and the Monday Night Holyoke Characteristics and Step Meeting present:\n\nIn-person Location:\nGrace Episcopal Church\n76 Eldredge St.\, Newton\, MA 02458 \nFall Gathering Flyer \nSchedule \n11:00 am Registration \n11:15 am Opening Meeting / Keynote Speaker(s) \n12:30 pm Isolation – Loneliness and isolation are both the root of our disease and a consequence of it.  Recovery brings us out of isolation. This session is about breaking our isolation in S.L.A.A. \n1:45 pm Shame and Guilt – Prior deeds and passions\, or missed opportunities can lead to guilt and shame.  The 12-steps are a way to restore dignity of self.  This session is about recognizing our powerlessness and healing our past. \n3:00 pm Higher Power – How do we find that Higher Power that restores us to sanity?  What can we do to improve our conscious contact?  Steps 2\, 3\, 5\, 6\, 7\, and 11 refer to our Higher Power.  This session is about the role of our Higher Power in our lives. \nThis event is hybrid in person/Zoom and we need volunteers.\nWe need in person and on zoom speakers and meeting leader! Please consider doing service for this event.\nIf you can help contact: activities@slaanei.org \nPlease Register in advance through the NEI website.\nRegister Here \nIf you are joining us on Zoom you MUST register to receive the log in details. \nCONTRIBUTION: $18.00 – More if you can\, less if you can’t. No one is turned away! \nThe suggested contribution helps New England Intergroup (NEI) continue its work to help the addict who is still suffering.\nDonations support: the NEI website\, phone line\, P.O.Box\, gatherings\, retreats\, and other NEI sponsored events. \nCONTACT \nPHONE: 617-625-7961\nWEBSITE: https://slaanei.org/\nEMAIL: Activities@slaanei.org \n\n\nSIGN UP HERE\n 
URL:https://slaanei.org/event/fall-gathering-2025
LOCATION:Grace Episcopal Church\, 76 Eldridge St\, Newton\, MA\, 02458\, United States
CATEGORIES:Gatherings,NEI,SLAA
END:VEVENT
BEGIN:VEVENT
DTSTART;TZID=America/New_York:20251109T110000
DTEND;TZID=America/New_York:20251109T170000
DTSTAMP:20260423T210203
CREATED:20250930T233704Z
LAST-MODIFIED:20251001T232021Z
UID:7921-1762686000-1762707600@slaanei.org
SUMMARY:NY 2025 SLAA Share a Day
DESCRIPTION:Flyer can be found here: 2025 SLAA Share-A-Day Flyer \nThe Chairperson of the NY Intergroup of SLAA is hosting a Share-a-Day on November 9th in downtown Manhattan.  They would like to invite someone from the New England Intergroup to speak.  They can speak on any recovery they would like.  \nIf interested and would like to speak at the Share-a-day please coordinate the time\, topic and details with Dan at info@slaany.org\nWe will reimburse you for your train  ticket or gas down. \n\nAs always\, anyone is welcome to attend.   \n————————————————- \n2025 SLAA Share-A-Day \nTime and Place:\nNovember 9\, 2025 \nWorkshops: 11:00 a.m. – 5:00 p.m \nTalent show: 5:00 – 6:00 p.m. \nBond Collective: 55 Broadway\, Fourth Floor\, New York\, NY 10006 \nImportant Details:\nEntrance to Bond Collective: On the day of the event\, the main doors to 55 Broadway remain locked. The entrance will be through the side doors. A security guard will let you in. Please bring a valid photo ID which you’ll need to enter the building. \nWant to participate in the Talent Show?\nEasy! Bring your instrument\, poem\, monologue\, stand-up\, or whatever you’d like to share. Performances are first-come\, first-served on the day of the event. \nWorkshop Schedule:\nThe workshop schedule is being worked on now! Stay tuned. \nIf you’d like to run one of the workshops\, let us know! You can get in touch by emailing info@slaany.org \n\n\n 
URL:https://slaanei.org/event/2025-slaa-share-a-day
LOCATION:Bond Collective\, NY\, 55 Broadway\, Fourth Floor\, New York\, NY 10006\, 10006\, United States
CATEGORIES:Gatherings,NEI,SLAA
END:VEVENT
BEGIN:VEVENT
DTSTART;TZID=America/New_York:20251112T180000
DTEND;TZID=America/New_York:20251112T193000
DTSTAMP:20260423T210203
CREATED:20250118T150453Z
LAST-MODIFIED:20251006T211314Z
UID:7740-1762970400-1762975800@slaanei.org
SUMMARY:NEI Monthly Meeting November 2025- Wed Nov 12th
DESCRIPTION:Topic: Monthly NEI Meeting05:00 PM Eastern Time (US and Canada) \nJoin Zoom Meetinghttps://us02web.zoom.us/j/84864085165?pwd=js4UZfugJF9gjbIhIqNLdamnCKCXZn.1 \nMeeting ID: 848 6408 5165\nPasscode: 123123\nDial by your location+1 929 205 6099 US (New York) \nHave you ever wondered what its’ like to do service at the Intergroup level? NEI needs your SUPPORT and your IDEAS. Join us at one of our monthly Intergroup meetings either in person or by conference call. \nMeetings typically take place the 2nd Sunday of each month from 5:00PM – 7:00PM except where noted.
URL:https://slaanei.org/event/nei-monthly-meeting-nov-25
LOCATION:MA
CATEGORIES:monthly,NEI
END:VEVENT
BEGIN:VEVENT
DTSTART;TZID=America/New_York:20251123T170000
DTEND;TZID=America/New_York:20251123T183000
DTSTAMP:20260423T210203
CREATED:20250225T001011Z
LAST-MODIFIED:20250225T001924Z
UID:7787-1763917200-1763922600@slaanei.org
SUMMARY:Activities Committee Meeting- Nov 2025
DESCRIPTION:Activities Committee Meeting Monthly Meetings\n\nNov 23\, 2025 @ 5:00 pm – 6:30 pm\nThe Activities Committee Regular Meeting is on the fourth (4th) Sunday of each month from 5:00 PM to 6:30 PM via Zoom\n\n\nNEI is inviting you to a scheduled Zoom meeting. \nTopic: NEI Activities committee\nJoin Zoom Meeting\nhttps://us02web.zoom.us/j/3654381821?pwd=K1VmZTZySGpxT2V6NFJlMjhFREJZdz09&omn=86504494290 \nMeeting ID: 365 438 1821\nPasscode: 123123 \n— \nOne tap mobile\n+13052241968\,\,3654381821#\,\,\,\,*123123# US\n+13092053325\,\,3654381821#\,\,\,\,*123123# US \n— \nDial by your location\n• +1 305 224 1968 US\n• +1 309 205 3325 US\n• +1 312 626 6799 US (Chicago)\n• +1 646 931 3860 US\n• +1 929 205 6099 US (New York)\n• +1 301 715 8592 US (Washington DC)\n• +1 689 278 1000 US\n• +1 719 359 4580 US\n• +1 253 205 0468 US\n• +1 253 215 8782 US (Tacoma)\n• +1 346 248 7799 US (Houston)\n• +1 360 209 5623 US\n• +1 386 347 5053 US\n• +1 507 473 4847 US\n• +1 564 217 2000 US\n• +1 669 444 9171 US\n• +1 669 900 6833 US (San Jose) \nMeeting ID: 365 438 1821\nPasscode: 123123 \nFind your local number: https://us02web.zoom.us/u/kcUlI7WSnW \n\n\nThe Activities Committee plans events like the Spring and Fall Gatherings\, 12-step retreats\, the February You are Not Alone event and other fellowship recovery events
URL:https://slaanei.org/event/activities-committee-meeting-nov25
LOCATION:MA
CATEGORIES:NEI,SLAA
END:VEVENT
END:VCALENDAR