BEGIN:VCALENDAR
VERSION:2.0
PRODID:-//New England Intergroup - ECPv6.15.11//NONSGML v1.0//EN
CALSCALE:GREGORIAN
METHOD:PUBLISH
X-WR-CALNAME:New England Intergroup
X-ORIGINAL-URL:https://slaanei.org
X-WR-CALDESC:Events for New England Intergroup
REFRESH-INTERVAL;VALUE=DURATION:PT1H
X-Robots-Tag:noindex
X-PUBLISHED-TTL:PT1H
BEGIN:VTIMEZONE
TZID:America/New_York
BEGIN:DAYLIGHT
TZOFFSETFROM:-0500
TZOFFSETTO:-0400
TZNAME:EDT
DTSTART:20240310T070000
END:DAYLIGHT
BEGIN:STANDARD
TZOFFSETFROM:-0400
TZOFFSETTO:-0500
TZNAME:EST
DTSTART:20241103T060000
END:STANDARD
BEGIN:DAYLIGHT
TZOFFSETFROM:-0500
TZOFFSETTO:-0400
TZNAME:EDT
DTSTART:20250309T070000
END:DAYLIGHT
BEGIN:STANDARD
TZOFFSETFROM:-0400
TZOFFSETTO:-0500
TZNAME:EST
DTSTART:20251102T060000
END:STANDARD
BEGIN:DAYLIGHT
TZOFFSETFROM:-0500
TZOFFSETTO:-0400
TZNAME:EDT
DTSTART:20260308T070000
END:DAYLIGHT
BEGIN:STANDARD
TZOFFSETFROM:-0400
TZOFFSETTO:-0500
TZNAME:EST
DTSTART:20261101T060000
END:STANDARD
END:VTIMEZONE
BEGIN:VEVENT
DTSTART;TZID=America/New_York:20251005T170000
DTEND;TZID=America/New_York:20251005T190000
DTSTAMP:20260423T224016
CREATED:20250118T150447Z
LAST-MODIFIED:20250919T132058Z
UID:7739-1759683600-1759690800@slaanei.org
SUMMARY:NEI Monthly Meeting October 2025
DESCRIPTION:Topic: Monthly NEI Meeting05:00 PM Eastern Time (US and Canada) \nJoin Zoom Meetinghttps://us02web.zoom.us/j/84864085165?pwd=js4UZfugJF9gjbIhIqNLdamnCKCXZn.1 \nMeeting ID: 848 6408 5165\nPasscode: 123123\nDial by your location+1 929 205 6099 US (New York) \nHave you ever wondered what its’ like to do service at the Intergroup level? NEI needs your SUPPORT and your IDEAS. Join us at one of our monthly Intergroup meetings either in person or by conference call. \nMeetings typically take place the 2nd Sunday of each month from 5:00PM – 7:00PM except where noted.
URL:https://slaanei.org/event/nei-monthly-meeting-oct-25
LOCATION:MA
CATEGORIES:monthly,NEI
END:VEVENT
BEGIN:VEVENT
DTSTART;TZID=America/New_York:20251026T170000
DTEND;TZID=America/New_York:20251026T183000
DTSTAMP:20260423T224016
CREATED:20250225T001005Z
LAST-MODIFIED:20250225T001831Z
UID:7786-1761498000-1761503400@slaanei.org
SUMMARY:Activities Committee Meeting- Oct 2025
DESCRIPTION:Activities Committee Meeting Monthly Meetings\n\nOct 26\, 2025 @ 5:00 pm – 6:30 pm\nThe Activities Committee Regular Meeting is on the fourth (4th) Sunday of each month from 5:00 PM to 6:30 PM via Zoom\n\n\nNEI is inviting you to a scheduled Zoom meeting. \nTopic: NEI Activities committee\nJoin Zoom Meeting\nhttps://us02web.zoom.us/j/3654381821?pwd=K1VmZTZySGpxT2V6NFJlMjhFREJZdz09&omn=86504494290 \nMeeting ID: 365 438 1821\nPasscode: 123123 \n— \nOne tap mobile\n+13052241968\,\,3654381821#\,\,\,\,*123123# US\n+13092053325\,\,3654381821#\,\,\,\,*123123# US \n— \nDial by your location\n• +1 305 224 1968 US\n• +1 309 205 3325 US\n• +1 312 626 6799 US (Chicago)\n• +1 646 931 3860 US\n• +1 929 205 6099 US (New York)\n• +1 301 715 8592 US (Washington DC)\n• +1 689 278 1000 US\n• +1 719 359 4580 US\n• +1 253 205 0468 US\n• +1 253 215 8782 US (Tacoma)\n• +1 346 248 7799 US (Houston)\n• +1 360 209 5623 US\n• +1 386 347 5053 US\n• +1 507 473 4847 US\n• +1 564 217 2000 US\n• +1 669 444 9171 US\n• +1 669 900 6833 US (San Jose) \nMeeting ID: 365 438 1821\nPasscode: 123123 \nFind your local number: https://us02web.zoom.us/u/kcUlI7WSnW \n\n\nThe Activities Committee plans events like the Spring and Fall Gatherings\, 12-step retreats\, the February You are Not Alone event and other fellowship recovery events
URL:https://slaanei.org/event/activities-committee-meeting-oct25
LOCATION:MA
CATEGORIES:NEI,SLAA
END:VEVENT
END:VCALENDAR