BEGIN:VCALENDAR
VERSION:2.0
PRODID:-//New England Intergroup - ECPv6.15.11//NONSGML v1.0//EN
CALSCALE:GREGORIAN
METHOD:PUBLISH
X-ORIGINAL-URL:https://slaanei.org
X-WR-CALDESC:Events for New England Intergroup
REFRESH-INTERVAL;VALUE=DURATION:PT1H
X-Robots-Tag:noindex
X-PUBLISHED-TTL:PT1H
BEGIN:VTIMEZONE
TZID:America/New_York
BEGIN:DAYLIGHT
TZOFFSETFROM:-0500
TZOFFSETTO:-0400
TZNAME:EDT
DTSTART:20240310T070000
END:DAYLIGHT
BEGIN:STANDARD
TZOFFSETFROM:-0400
TZOFFSETTO:-0500
TZNAME:EST
DTSTART:20241103T060000
END:STANDARD
BEGIN:DAYLIGHT
TZOFFSETFROM:-0500
TZOFFSETTO:-0400
TZNAME:EDT
DTSTART:20250309T070000
END:DAYLIGHT
BEGIN:STANDARD
TZOFFSETFROM:-0400
TZOFFSETTO:-0500
TZNAME:EST
DTSTART:20251102T060000
END:STANDARD
BEGIN:DAYLIGHT
TZOFFSETFROM:-0500
TZOFFSETTO:-0400
TZNAME:EDT
DTSTART:20260308T070000
END:DAYLIGHT
BEGIN:STANDARD
TZOFFSETFROM:-0400
TZOFFSETTO:-0500
TZNAME:EST
DTSTART:20261101T060000
END:STANDARD
END:VTIMEZONE
BEGIN:VEVENT
DTSTART;TZID=America/New_York:20250912T180000
DTEND;TZID=America/New_York:20250914T130000
DTSTAMP:20260424T003554
CREATED:20250728T231516Z
LAST-MODIFIED:20250728T232905Z
UID:7866-1757700000-1757854800@slaanei.org
SUMMARY:24th Annual Maine SLAA Fall Retreat and 12 STEP WEEKEND
DESCRIPTION:View Flyer details here: \nME 24th Annual Fall Retreat \n…………………………………………………………………………………………………………………………… \n24th Annual Maine SLAA Fall Retreat and 12 STEP WEEKEND \nSponsored by the Mid Maine Intergroup\nSeptember 12th\, 13th\, and 14th\, 2025\nWheeler’s Camps\, Oakland\, Maine \nPlease be mindful of COVID19 & test prior to retreat if you have symptoms\n6:00 pm Friday 1:00 pm Sunday \nCost of the Retreat: $180.00\nMeals and Lodging Included \nIf you have any questions\, please do not contact Wheeler’s Camps. All inquiries should be made to retreat committee members Irene\, Jill\, Jeff\, & Tom P \nABOUT THE RETREAT\nThis weekend will be devoted to an intensive study of the 12 Steps. If you have not done any study of the Steps\, intensive or otherwise\, this is a great way to do it\, especially for the first time. Regardless of where we are in the\nStep process\, we can learn from sharing our experience\, strength and hope with each other. To ensure a feeling of safety and trust participants will be expected to refrain from acting out during the weekend. Temporary\nsponsors and frequent “getting current” are suggested. \nPAYMENT\n*The cost of the Retreat is $180.00. This includes meals and lodging. Participants will take turns doing service such as keeping beverages available\, and meal set up/clean up. There will be shared sleeping accommodations\, which may include having more than one bed per room in same gender cabins. Space is limited. \n*The full registration fee of $180.00 must be received by Friday\, September 1\, 2024\, to hold your reservation.\n*Registration is on a first come\, first serve basis. Confirmation\, directions\, and a retreat schedule can be sent at your request; Contact Jeff W at 207-300-1371 by text or calls and send your email if you want to communicate by email. \n*Please send the Registration Form\, the Meals and Dietary Requirements Form as well as a signed and dated Disclaimer Form with your check or money order to:\nMake checks payable to “Tuesday Night SLAA”\nSend checks & registration to:\nTom Prescott\, Retreat 2024\n352 Hosmer Pond Rd\, Camden\, ME 04843 \nSchedule for weekend:\n● Friday\, 6-7 pm: Registration\, 7-7:30 pm: Check into rooms\, First Meeting: 7:30-10:00 pm\, (No supper provided on Friday night) \n● Saturday\, Breakfast: 8:00-8:45 am\, First Meeting: 9:00-10:15 am\,\nSecond Meeting: 10:30-Noon\, Lunch: 12:00-1:00 pm\, Free Time: 1:00 to 3:00 pm\, Afternoon Meeting: 3:00-4:30 pm. Dinner: 5:30 pm. Evening Meeting: 7:00-9:00 pm \nTraditionally\, we have music on Saturday night. Please bring instruments if you play. \n● Sunday\, Breakfast: 8:00-8:45 am\, First Meeting 9:00 to 10:30 am\, Second Meeting: 10:45 to Noon.\nClosing 12:00 to 12:30 pm\, Lunch 12:30
URL:https://slaanei.org/event/24th_me_fall_retreat_step
LOCATION:Wheeler’s Camp\, Oakland\, ME\, 04963\, United States
CATEGORIES:NEI,Retreats,SLAA
END:VEVENT
BEGIN:VEVENT
DTSTART;TZID=America/New_York:20250914T170000
DTEND;TZID=America/New_York:20250914T190000
DTSTAMP:20260424T003554
CREATED:20250118T150440Z
LAST-MODIFIED:20250919T132148Z
UID:7738-1757869200-1757876400@slaanei.org
SUMMARY:NEI Monthly Meeting September 2025
DESCRIPTION:Topic: Monthly NEI Meeting05:00 PM Eastern Time (US and Canada) \nJoin Zoom Meetinghttps://us02web.zoom.us/j/84864085165?pwd=js4UZfugJF9gjbIhIqNLdamnCKCXZn.1 \nMeeting ID: 848 6408 5165\nPasscode: 123123\nDial by your location+1 929 205 6099 US (New York) \nHave you ever wondered what its’ like to do service at the Intergroup level? NEI needs your SUPPORT and your IDEAS. Join us at one of our monthly Intergroup meetings either in person or by conference call. \nMeetings typically take place the 2nd Sunday of each month from 5:00PM – 7:00PM except where noted.
URL:https://slaanei.org/event/nei-monthly-meeting-sep-25
LOCATION:MA
CATEGORIES:monthly,NEI
END:VEVENT
BEGIN:VEVENT
DTSTART;TZID=America/New_York:20250926T183000
DTEND;TZID=America/New_York:20250928T133000
DTSTAMP:20260424T003554
CREATED:20250318T214909Z
LAST-MODIFIED:20250919T132132Z
UID:7824-1758911400-1759066200@slaanei.org
SUMMARY:Fall Step Weekend Retreat – 2025
DESCRIPTION:View Flyer details here: \n12-Step-Weekend-Sept-2025 \n…………………………………………………………………………………………………………………………… \nStep study is a key tool to recovery in the S.L.A.A. program: \nS.L.A.A. 12 Step Weekend Retreat – September 26-28\, 2025\nGlastonbury Abbey\n16 Hull Street\, Hingham\,\nMassachusetts 02043\n(45 minutes from Boston/ 1 hour from Providence) \nAt the retreat weekend we do a study of the SLAA 12 Steps–together. \nIf you have worked on the Steps in this type of format before\, you already\nknow its value. If you have not done any study of the Steps\, intensive or\notherwise\, this is a great way to do it\, especially the first time. Regardless of\nwhere we are in the Step study process\, we are able to learn from sharing\nour experience\, strength and hope with each other \nSchedule: The retreat starts Friday evening after 6:30 PM and we depart no\nlater than 1:30 PM on Sunday.\n(A final detailed schedule will be sent to you prior to the retreat.) \nPrice: $280.00 YOUR COST registration deadline is Fri\, Sept 12\, 2025\n-20.00 DISCOUNT IF REGISTRATION/PAYMENT IS RECEIVED BY Friday\, August 29\, 2025\n$260.00 Includes: 2 nights lodging with towels\, blankets\, and linens\n& 4 meals: Saturday continental breakfast\, buffet lunch\, and buffet dinner; and Sunday brunch. \nIf you have any questions\, issues\, or concerns\, please email the Retreat\nCoordinator at 12stepretreat@slaanei.org or call NEI at 617/625-7961 and\nleave a message for the Retreat Coordinator. Some scholarship assistance\nis available. \nContact NEI for details. We hope you will be able to join us for\nthis very special weekend!
URL:https://slaanei.org/event/fall_step_retreat_2025
LOCATION:Glastonbury Abbey\, 16 Hull St\, Hingham\, 02043\, United States
CATEGORIES:NEI,Retreats,SLAA
END:VEVENT
BEGIN:VEVENT
DTSTART;TZID=America/New_York:20250928T170000
DTEND;TZID=America/New_York:20250928T183000
DTSTAMP:20260424T003554
CREATED:20250225T000956Z
LAST-MODIFIED:20250225T001721Z
UID:7785-1759078800-1759084200@slaanei.org
SUMMARY:Activities Committee Meeting- September 2025
DESCRIPTION:Activities Committee Meeting Monthly Meetings\n\nSept 23\, 2025 @ 5:00 pm – 6:30 pm\nThe Activities Committee Regular Meeting is on the fourth (4th) Sunday of each month from 5:00 PM to 6:30 PM via Zoom\n\n\nNEI is inviting you to a scheduled Zoom meeting. \nTopic: NEI Activities committee\nJoin Zoom Meeting\nhttps://us02web.zoom.us/j/3654381821?pwd=K1VmZTZySGpxT2V6NFJlMjhFREJZdz09&omn=86504494290 \nMeeting ID: 365 438 1821\nPasscode: 123123 \n— \nOne tap mobile\n+13052241968\,\,3654381821#\,\,\,\,*123123# US\n+13092053325\,\,3654381821#\,\,\,\,*123123# US \n— \nDial by your location\n• +1 305 224 1968 US\n• +1 309 205 3325 US\n• +1 312 626 6799 US (Chicago)\n• +1 646 931 3860 US\n• +1 929 205 6099 US (New York)\n• +1 301 715 8592 US (Washington DC)\n• +1 689 278 1000 US\n• +1 719 359 4580 US\n• +1 253 205 0468 US\n• +1 253 215 8782 US (Tacoma)\n• +1 346 248 7799 US (Houston)\n• +1 360 209 5623 US\n• +1 386 347 5053 US\n• +1 507 473 4847 US\n• +1 564 217 2000 US\n• +1 669 444 9171 US\n• +1 669 900 6833 US (San Jose) \nMeeting ID: 365 438 1821\nPasscode: 123123 \nFind your local number: https://us02web.zoom.us/u/kcUlI7WSnW \n\n\nThe Activities Committee plans events like the Spring and Fall Gatherings\, 12-step retreats\, the February You are Not Alone event and other fellowship recovery events
URL:https://slaanei.org/event/activities-committee-meeting-sep25
LOCATION:MA
CATEGORIES:NEI,SLAA
END:VEVENT
END:VCALENDAR