BEGIN:VCALENDAR
VERSION:2.0
PRODID:-//New England Intergroup - ECPv6.15.11//NONSGML v1.0//EN
CALSCALE:GREGORIAN
METHOD:PUBLISH
X-ORIGINAL-URL:https://slaanei.org
X-WR-CALDESC:Events for New England Intergroup
REFRESH-INTERVAL;VALUE=DURATION:PT1H
X-Robots-Tag:noindex
X-PUBLISHED-TTL:PT1H
BEGIN:VTIMEZONE
TZID:America/New_York
BEGIN:DAYLIGHT
TZOFFSETFROM:-0500
TZOFFSETTO:-0400
TZNAME:EDT
DTSTART:20240310T070000
END:DAYLIGHT
BEGIN:STANDARD
TZOFFSETFROM:-0400
TZOFFSETTO:-0500
TZNAME:EST
DTSTART:20241103T060000
END:STANDARD
BEGIN:DAYLIGHT
TZOFFSETFROM:-0500
TZOFFSETTO:-0400
TZNAME:EDT
DTSTART:20250309T070000
END:DAYLIGHT
BEGIN:STANDARD
TZOFFSETFROM:-0400
TZOFFSETTO:-0500
TZNAME:EST
DTSTART:20251102T060000
END:STANDARD
BEGIN:DAYLIGHT
TZOFFSETFROM:-0500
TZOFFSETTO:-0400
TZNAME:EDT
DTSTART:20260308T070000
END:DAYLIGHT
BEGIN:STANDARD
TZOFFSETFROM:-0400
TZOFFSETTO:-0500
TZNAME:EST
DTSTART:20261101T060000
END:STANDARD
END:VTIMEZONE
BEGIN:VEVENT
DTSTART;TZID=America/New_York:20250504T170000
DTEND;TZID=America/New_York:20250504T190000
DTSTAMP:20260424T081008
CREATED:20250118T150410Z
LAST-MODIFIED:20250118T151001Z
UID:7734-1746378000-1746385200@slaanei.org
SUMMARY:NEI Monthly Meeting May 2025
DESCRIPTION:Topic: Monthly NEI Meeting05:00 PM Eastern Time (US and Canada) \nJoin Zoom Meetinghttps://us02web.zoom.us/j/128213347 \nMeeting ID: 128 213 347 \nDial by your location+1 929 205 6099 US (New York) \nHave you ever wondered what its’ like to do service at the Intergroup level? NEI needs your SUPPORT and your IDEAS. Join us at one of our monthly Intergroup meetings either in person or by conference call. \nMeetings typically take place the 2nd Sunday of each month from 5:00PM – 7:00PM except where noted.
URL:https://slaanei.org/event/nei-monthly-meeting-may-25
LOCATION:MA
CATEGORIES:monthly,NEI
END:VEVENT
BEGIN:VEVENT
DTSTART;TZID=America/New_York:20250516T180000
DTEND;TZID=America/New_York:20250518T120000
DTSTAMP:20260424T081008
CREATED:20250309T133156Z
LAST-MODIFIED:20250318T214429Z
UID:7810-1747418400-1747569600@slaanei.org
SUMMARY:S.L.A.A. Weekend Retreat – May 16-18\, 2025
DESCRIPTION:NEW ENGLAND INTERGROUP (NEI) OF SEX AND LOVE ADDICTS ANONYMOUS PRESENTS: \n\nMay Weekend Retreat – May16-18 2025\nTHEME: Drop the Rock! \nMay 16-18\, 2025 \nRegistration deadline is 4/27/2025\n$280.00 YOUR COST\nEarly registration if payment is received 4/6/2025\n$ -20.00 DISCOUNT $260.00 COST \n$260.00 Includes: 2 nights lodging with towels\, blankets\, linens & 5\nmeals—3 on Saturday & 2 on Sunday. \nTentative Schedule start Friday @ 6:00pm and end Sunday 12:00pm \nDOWNLOAD THE FLYER HERE\nRetreat flyer Drop the Rock May 16 thru 18-2025 Glastonbury Abbey\n \nIn this retreat\, our focus will be on the profound impact of Steps 6 and 7 in\nguiding us towards genuine freedom. We invite you to join us for an immersive exploration of these often-hurried steps. \nDuring this retreat\, we will delve into the insights provided by the second\nedition of Drop The Rock book\, authored by Bill P.\, Todd W.\, and Sara S.\, along with SLAA materials. Our goal is to facilitate a deep understanding of the transformative power through these steps\, fostering personal growth and the liberation from character defects. \nThis recovery retreat provides a supportive environment for reflection\,\nlearning\, and connection. Join us for this deep dive into self-discovery and\nhealing as we work together to navigate the path to true freedom. \nWhat is the Drop the Rock concept?\n• The concept of “dropping the rock” is a metaphor for releasing\nresentments\, destructive patterns\, and character defects.\n• It’s a core part of Twelve Step recovery.\n• It relates to Steps 6 and 7\, which focus on asking a higher power for help. \nWhy is “dropping the rock” important?\n• It can lead to lasting change and authentic recovery.\n• It can create a “ripple effect” of healing and positivity on others.\n• It can help people move forward unburdened by their past. \nParticipants will:\n• Discuss the story of “Drop the Rock”.\n• Share their own experiences with “dropping the rock”.\n• Explore the principles behind Steps 6 and 7 and how Step 10\ncompliments our maintenance of recovery.\n• Learn how to apply these principles to our own lives. \nThe process of identifying these tendencies and stopping the behaviors will\nnot only help those in recovery but will lead us to true happiness and\nusefulness to others. \nAdditional Notes: \n1. In addition to SLAA Step materials\, we will be using some non-\nConference approved materials\, e.g. Drop the Rock book. To review the free pdf download go to Hazelden – Drop the Rock book pdf download . You will need this for the weekend.\n2. To hear the inspiration for the concept of Drop the Rock and the book\,\ngo to YouTube:Sandy Beach – Drop the Rock – AA Speaker. \nImportant information regarding attendance/participation:\n• This is an SLAA retreat sponsored by NEI.\n• Participants this weekend are recovering SLAA members.\n• Non-participating guests are NOT allowed.\n• This retreat is not suitable for anyone in acute withdrawal or initial stages\nof recovery. This retreat serves those seeking ongoing motivation for sobriety maintenance through continued Step Work. \nWe look forward to seeing you soon!  \n 
URL:https://slaanei.org/event/may2025weekendretreat
LOCATION:Glastonbury Abbey\, 16 Hull Street\, Hingham\, MA\, 02043\, United States
CATEGORIES:Gatherings,NEI,SLAA
END:VEVENT
BEGIN:VEVENT
DTSTART;TZID=America/New_York:20250525T170000
DTEND;TZID=America/New_York:20250525T183000
DTSTAMP:20260424T081008
CREATED:20250225T000922Z
LAST-MODIFIED:20250225T001338Z
UID:7781-1748192400-1748197800@slaanei.org
SUMMARY:Activities Committee Meeting- May 2025
DESCRIPTION:Activities Committee Meeting Monthly Meetings\n\nMay 25\, 2025 @ 5:00 pm – 6:30 pm\nThe Activities Committee Regular Meeting is on the fourth (4th) Sunday of each month from 5:00 PM to 6:30 PM via Zoom\n\n\nNEI is inviting you to a scheduled Zoom meeting. \nTopic: NEI Activities committee\nJoin Zoom Meeting\nhttps://us02web.zoom.us/j/3654381821?pwd=K1VmZTZySGpxT2V6NFJlMjhFREJZdz09&omn=86504494290 \nMeeting ID: 365 438 1821\nPasscode: 123123 \n— \nOne tap mobile\n+13052241968\,\,3654381821#\,\,\,\,*123123# US\n+13092053325\,\,3654381821#\,\,\,\,*123123# US \n— \nDial by your location\n• +1 305 224 1968 US\n• +1 309 205 3325 US\n• +1 312 626 6799 US (Chicago)\n• +1 646 931 3860 US\n• +1 929 205 6099 US (New York)\n• +1 301 715 8592 US (Washington DC)\n• +1 689 278 1000 US\n• +1 719 359 4580 US\n• +1 253 205 0468 US\n• +1 253 215 8782 US (Tacoma)\n• +1 346 248 7799 US (Houston)\n• +1 360 209 5623 US\n• +1 386 347 5053 US\n• +1 507 473 4847 US\n• +1 564 217 2000 US\n• +1 669 444 9171 US\n• +1 669 900 6833 US (San Jose) \nMeeting ID: 365 438 1821\nPasscode: 123123 \nFind your local number: https://us02web.zoom.us/u/kcUlI7WSnW \n\n\nThe Activities Committee plans events like the Spring and Fall Gatherings\, 12-step retreats\, the February You are Not Alone event and other fellowship recovery events
URL:https://slaanei.org/event/activities-committee-meeting-may25
LOCATION:MA
CATEGORIES:NEI,SLAA
END:VEVENT
END:VCALENDAR