BEGIN:VCALENDAR
VERSION:2.0
PRODID:-//New England Intergroup - ECPv6.15.11//NONSGML v1.0//EN
CALSCALE:GREGORIAN
METHOD:PUBLISH
X-ORIGINAL-URL:https://slaanei.org
X-WR-CALDESC:Events for New England Intergroup
REFRESH-INTERVAL;VALUE=DURATION:PT1H
X-Robots-Tag:noindex
X-PUBLISHED-TTL:PT1H
BEGIN:VTIMEZONE
TZID:America/New_York
BEGIN:DAYLIGHT
TZOFFSETFROM:-0500
TZOFFSETTO:-0400
TZNAME:EDT
DTSTART:20240310T070000
END:DAYLIGHT
BEGIN:STANDARD
TZOFFSETFROM:-0400
TZOFFSETTO:-0500
TZNAME:EST
DTSTART:20241103T060000
END:STANDARD
BEGIN:DAYLIGHT
TZOFFSETFROM:-0500
TZOFFSETTO:-0400
TZNAME:EDT
DTSTART:20250309T070000
END:DAYLIGHT
BEGIN:STANDARD
TZOFFSETFROM:-0400
TZOFFSETTO:-0500
TZNAME:EST
DTSTART:20251102T060000
END:STANDARD
BEGIN:DAYLIGHT
TZOFFSETFROM:-0500
TZOFFSETTO:-0400
TZNAME:EDT
DTSTART:20260308T070000
END:DAYLIGHT
BEGIN:STANDARD
TZOFFSETFROM:-0400
TZOFFSETTO:-0500
TZNAME:EST
DTSTART:20261101T060000
END:STANDARD
END:VTIMEZONE
BEGIN:VEVENT
DTSTART;TZID=America/New_York:20250413T170000
DTEND;TZID=America/New_York:20250413T190000
DTSTAMP:20260424T100640
CREATED:20250118T150403Z
LAST-MODIFIED:20250118T150856Z
UID:7733-1744563600-1744570800@slaanei.org
SUMMARY:NEI Monthly Meeting April 2025
DESCRIPTION:Topic: Monthly NEI Meeting05:00 PM Eastern Time (US and Canada) \nJoin Zoom Meetinghttps://us02web.zoom.us/j/128213347 \nMeeting ID: 128 213 347 \nDial by your location+1 929 205 6099 US (New York) \nHave you ever wondered what its’ like to do service at the Intergroup level? NEI needs your SUPPORT and your IDEAS. Join us at one of our monthly Intergroup meetings either in person or by conference call. \nMeetings typically take place the 2nd Sunday of each month from 5:00PM – 7:00PM except where noted.
URL:https://slaanei.org/event/nei-monthly-meeting-apr-25
LOCATION:MA
CATEGORIES:monthly,NEI
END:VEVENT
BEGIN:VEVENT
DTSTART;TZID=America/New_York:20250426T110000
DTEND;TZID=America/New_York:20250426T160000
DTSTAMP:20260424T100640
CREATED:20241214T200225Z
LAST-MODIFIED:20241231T013302Z
UID:7694-1745665200-1745683200@slaanei.org
SUMMARY:Spring Gathering 2025
DESCRIPTION:NEW ENGLAND INTERGROUP (NEI) OF SEX AND LOVE ADDICTS ANONYMOUS PRESENTS: \nSPRING GATHERING 2025\nTHEME: RECOVERY—THE SOLUTION \nSaturday April 26\, 2026 11:00am- 4:00pm (EST) \nDOWNLOAD THE FLYER HERE\nSpring Gathering 2025 flyer v3 \nIn-person Location: Grace Episcopal Church\n76 Eldredge St.\, Newton\, MA 02458 \nThis event is hybrid in person/Zoom and we need volunteers. \nWe need in person and on zoom speakers and meeting leader!  Please consider doing service for this event.\nIf you can help contact: activities@slaanei.org\n\nPlease Register in advance through the NEI website.\nhttps://donorbox.org/spring-gathering-2025\n \nIf you are joining us on Zoom you MUST register to receive the log in details. \nCONTRIBUTION: $18.00 – More if you can\, less if you can’t. No one is turned away!\nThe suggested contribution helps New England Intergroup (NEI) continue its work to help the addict who is still suffering.\nDonations support: the NEI website\, phone line\, answering service\, P.O.Box\, gatherings\, retreats\, and other NEI sponsored\nevents. \nCONTACT\nPHONE: 617-625-7961\nWEBSITE: https://slaanei.org/\nEMAIL: Activities@slaanei.org \nSchedule \n11:00 -11:15 AM\nRegistration and Fellowship Greeting and speaking with old & new recovering friends. \n11:15 AM -12:15 PM\nOpening Meeting / Keynote Speaker(s) on the Theme \n12:30 PM -1:30 PM\nSession 1: Humor in Recovery. Sex & love addiction can cause so much pain and suffering and sometimes death. What is so\nfunny about that? Many find that by sharing our antics/stories we put a light on just how extreme our thinking/actions can be in the midst of addiction. In recovery we can laugh with each other\, keep things in perspective\, and experience new emotions. This session is about how bringing humor and laughing into our lives has played a part in our recovery and healing. \n1:45 – 2:45 PM\nSession 2: Acting Out/In vs. Recovery. “Acting Out” is to engage in addictive behavior. “Acting In” is to engage in actions that are isolating or withdrawing in nature. Both reflect avoidant behaviors that are harmful to us. Each person in S.L.A.A acts “out” and/or “in” differently\, but with help from a Higher Power\, our sponsor\, and recovering addicts we can move to recovery too. The S.L.A.A. program can help us stay sober and start living a life without active addiction. This session is about how we recognize our addictive patterns and admit powerlessness over them. That allows us to get help to stay sober from our patterns and start living a life of recovery. \n3:00 – 4:00 PM\nSession 3: Recovery: the Promises.  When we are more active in recovery by working the Steps\, some of the promises can start to occur even if we haven’t finished Step 9. This session is about how the promises have manifested in our lives and what we do to keep the promises alive today. \nThis event is open to anyone who identifies as a sex and/or love addict or is interested in finding out about recovery from this addiction in the S.L.A.A. program. \nInterested in doing service work at this event?  Ask us how you can get involved! \nWe look forward to seeing you soon!  \nSIGN UP HERE\nhttps://donorbox.org/spring-gathering-2025\n 
URL:https://slaanei.org/event/spring-gathering-2025
LOCATION:Grace Episcopal Church\, 76 Eldridge St\, Newton\, MA\, 02458\, United States
CATEGORIES:Gatherings,NEI,SLAA
END:VEVENT
BEGIN:VEVENT
DTSTART;TZID=America/New_York:20250427T170000
DTEND;TZID=America/New_York:20250427T183000
DTSTAMP:20260424T100640
CREATED:20250225T000909Z
LAST-MODIFIED:20250225T001324Z
UID:7780-1745773200-1745778600@slaanei.org
SUMMARY:Activities Committee Meeting- April 2025
DESCRIPTION:Activities Committee Meeting Monthly Meetings\n\nApril 27\, 2025 @ 5:00 pm – 6:30 pm\nThe Activities Committee Regular Meeting is on the fourth (4th) Sunday of each month from 5:00 PM to 6:30 PM via Zoom\n\n\nNEI is inviting you to a scheduled Zoom meeting. \nTopic: NEI Activities committee\nJoin Zoom Meeting\nhttps://us02web.zoom.us/j/3654381821?pwd=K1VmZTZySGpxT2V6NFJlMjhFREJZdz09&omn=86504494290 \nMeeting ID: 365 438 1821\nPasscode: 123123 \n— \nOne tap mobile\n+13052241968\,\,3654381821#\,\,\,\,*123123# US\n+13092053325\,\,3654381821#\,\,\,\,*123123# US \n— \nDial by your location\n• +1 305 224 1968 US\n• +1 309 205 3325 US\n• +1 312 626 6799 US (Chicago)\n• +1 646 931 3860 US\n• +1 929 205 6099 US (New York)\n• +1 301 715 8592 US (Washington DC)\n• +1 689 278 1000 US\n• +1 719 359 4580 US\n• +1 253 205 0468 US\n• +1 253 215 8782 US (Tacoma)\n• +1 346 248 7799 US (Houston)\n• +1 360 209 5623 US\n• +1 386 347 5053 US\n• +1 507 473 4847 US\n• +1 564 217 2000 US\n• +1 669 444 9171 US\n• +1 669 900 6833 US (San Jose) \nMeeting ID: 365 438 1821\nPasscode: 123123 \nFind your local number: https://us02web.zoom.us/u/kcUlI7WSnW \n\n\nThe Activities Committee plans events like the Spring and Fall Gatherings\, 12-step retreats\, the February You are Not Alone event and other fellowship recovery events
URL:https://slaanei.org/event/activities-committee-meeting-apr25
LOCATION:MA
CATEGORIES:NEI,SLAA
END:VEVENT
END:VCALENDAR