BEGIN:VCALENDAR
VERSION:2.0
PRODID:-//New England Intergroup - ECPv6.15.11//NONSGML v1.0//EN
CALSCALE:GREGORIAN
METHOD:PUBLISH
X-ORIGINAL-URL:https://slaanei.org
X-WR-CALDESC:Events for New England Intergroup
REFRESH-INTERVAL;VALUE=DURATION:PT1H
X-Robots-Tag:noindex
X-PUBLISHED-TTL:PT1H
BEGIN:VTIMEZONE
TZID:America/New_York
BEGIN:DAYLIGHT
TZOFFSETFROM:-0500
TZOFFSETTO:-0400
TZNAME:EDT
DTSTART:20240310T070000
END:DAYLIGHT
BEGIN:STANDARD
TZOFFSETFROM:-0400
TZOFFSETTO:-0500
TZNAME:EST
DTSTART:20241103T060000
END:STANDARD
BEGIN:DAYLIGHT
TZOFFSETFROM:-0500
TZOFFSETTO:-0400
TZNAME:EDT
DTSTART:20250309T070000
END:DAYLIGHT
BEGIN:STANDARD
TZOFFSETFROM:-0400
TZOFFSETTO:-0500
TZNAME:EST
DTSTART:20251102T060000
END:STANDARD
BEGIN:DAYLIGHT
TZOFFSETFROM:-0500
TZOFFSETTO:-0400
TZNAME:EDT
DTSTART:20260308T070000
END:DAYLIGHT
BEGIN:STANDARD
TZOFFSETFROM:-0400
TZOFFSETTO:-0500
TZNAME:EST
DTSTART:20261101T060000
END:STANDARD
END:VTIMEZONE
BEGIN:VEVENT
DTSTART;TZID=America/New_York:20250104T180000
DTEND;TZID=America/New_York:20250104T200000
DTSTAMP:20260424T151505
CREATED:20241218T001939Z
LAST-MODIFIED:20241218T001939Z
UID:7695-1736013600-1736020800@slaanei.org
SUMMARY:Zoom Workshop for Women: “SLAA Austin\, Women’s Setting Bottom Lines Pamphlet Workshop”
DESCRIPTION:Jan 4 2025 Women’s Zoom SBL Workshop \nTo register contact: Karen B\naustinwomensstepstudyinfo@gmail.com \nEmail to register for the online workshop and to receive the Zoom meeting link before Jan. 3\, 2025.\nPlease note: since this is an online Zoom women’s only meeting\, there will be a camera check \nSLAA Austin Women’s Setting Bottom Lines Pamphlet Workshop (Zoom)\nJoin us to set/reset your bottom lines for 2025 using the\nSLAA Setting Bottom Lines:\nA Pamphlet with Worksheets \nMeeting Format: \n\nIntro and meeting guidelines\nRead from one section of the SLAA pamphlet\nWrite your responses\nShare your writing (optional)\nRepeat for each section until pamphlet is complete\nClosing serenity prayer\n\nThe focus of this workshop is on reading\, writing\, and sharing our SLAA program experience\,\nstrength\, and hope led by the SLAA Setting Bottom Lines pamphlet. Although there may not\nbe time for everyone to share during the meeting\, we encourage you to participate and then\nreach out to a fellow traveler or sponsor to share your writing from the workshop. \nNewcomers are welcome! \nMaterials needed for the workshop:\nWe suggest that you buy the pamphlet before the workshop. It is available as a physical\ncopy or a virtual download. The pamphlet will be screen shared during the meeting. We\nalso suggest that you have paper/pen to write your responses.\nSLAA Pamphlets ($.99 each download)\nSetting Bottom Lines: A Pamphlet with Worksheets\n(https://store.slaafws.org/prod/PAM-017.html) \nTo register contact: Karen B\naustinwomensstepstudyinfo@gmail.com \nEmail to register for the online workshop and to receive the Zoom meeting link before Jan. 3\, 2025.\nPlease note: since this is an online Zoom women’s only meeting\, there will be a camera check
URL:https://slaanei.org/event/zoom-workshop-for-women-slaa-austin-womens-setting-bottom-lines-pamphlet-workshop
LOCATION:MA
END:VEVENT
BEGIN:VEVENT
DTSTART;TZID=America/New_York:20250107T180000
DTEND;TZID=America/New_York:20250107T220000
DTSTAMP:20260424T151505
CREATED:20241128T155455Z
LAST-MODIFIED:20241129T005705Z
UID:7680-1736272800-1736287200@slaanei.org
SUMMARY:SLAA 49th Anniversary Meeting January 2025
DESCRIPTION:SLAA Forty-Ninth Anniversary Meeting \nTuesday January 7th  2025 | 6:00–10:00pm EST \nPotluck- Speakers- Fellowship \n6:00- Potluck\n7:00- Beginners Meeting\n8:00- Fundamentals (Original) Meeting\n9:00pm – Fellowship \nLets Celebrate Together! \n WHERE:  Call Jeff @ 978-621-5091 or text Rhonda @ 978-489-9569 for exact Newton\, MA location
URL:https://slaanei.org/event/slaa49thanniversary
LOCATION:MA
END:VEVENT
BEGIN:VEVENT
DTSTART;TZID=America/New_York:20250112T170000
DTEND;TZID=America/New_York:20250112T190000
DTSTAMP:20260424T151505
CREATED:20250118T150339Z
LAST-MODIFIED:20250118T150625Z
UID:7730-1736701200-1736708400@slaanei.org
SUMMARY:NEI Monthly Meeting January 2025
DESCRIPTION:Topic: Monthly NEI Meeting05:00 PM Eastern Time (US and Canada) \nJoin Zoom Meetinghttps://us02web.zoom.us/j/128213347 \nMeeting ID: 128 213 347 \nDial by your location+1 929 205 6099 US (New York) \nHave you ever wondered what its’ like to do service at the Intergroup level? NEI needs your SUPPORT and your IDEAS. Join us at one of our monthly Intergroup meetings either in person or by conference call. \nMeetings typically take place the 2nd Sunday of each month from 5:00PM – 7:00PM except where noted.
URL:https://slaanei.org/event/nei-monthly-meeting-jan-25
LOCATION:MA
CATEGORIES:monthly,NEI
END:VEVENT
END:VCALENDAR