BEGIN:VCALENDAR
VERSION:2.0
PRODID:-//New England Intergroup - ECPv6.15.11//NONSGML v1.0//EN
CALSCALE:GREGORIAN
METHOD:PUBLISH
X-WR-CALNAME:New England Intergroup
X-ORIGINAL-URL:https://slaanei.org
X-WR-CALDESC:Events for New England Intergroup
REFRESH-INTERVAL;VALUE=DURATION:PT1H
X-Robots-Tag:noindex
X-PUBLISHED-TTL:PT1H
BEGIN:VTIMEZONE
TZID:America/New_York
BEGIN:DAYLIGHT
TZOFFSETFROM:-0500
TZOFFSETTO:-0400
TZNAME:EDT
DTSTART:20190310T070000
END:DAYLIGHT
BEGIN:STANDARD
TZOFFSETFROM:-0400
TZOFFSETTO:-0500
TZNAME:EST
DTSTART:20191103T060000
END:STANDARD
BEGIN:DAYLIGHT
TZOFFSETFROM:-0500
TZOFFSETTO:-0400
TZNAME:EDT
DTSTART:20200308T070000
END:DAYLIGHT
BEGIN:STANDARD
TZOFFSETFROM:-0400
TZOFFSETTO:-0500
TZNAME:EST
DTSTART:20201101T060000
END:STANDARD
BEGIN:DAYLIGHT
TZOFFSETFROM:-0500
TZOFFSETTO:-0400
TZNAME:EDT
DTSTART:20210314T070000
END:DAYLIGHT
BEGIN:STANDARD
TZOFFSETFROM:-0400
TZOFFSETTO:-0500
TZNAME:EST
DTSTART:20211107T060000
END:STANDARD
BEGIN:DAYLIGHT
TZOFFSETFROM:-0500
TZOFFSETTO:-0400
TZNAME:EDT
DTSTART:20220313T070000
END:DAYLIGHT
BEGIN:STANDARD
TZOFFSETFROM:-0400
TZOFFSETTO:-0500
TZNAME:EST
DTSTART:20221106T060000
END:STANDARD
END:VTIMEZONE
BEGIN:VEVENT
DTSTART;TZID=America/New_York:20210424T093000
DTEND;TZID=America/New_York:20210424T133000
DTSTAMP:20260424T235200
CREATED:20210201T021647Z
LAST-MODIFIED:20210223T203145Z
UID:6305-1619256600-1619271000@slaanei.org
SUMMARY:Spring Gathering 2021
DESCRIPTION:  \nSchedule\nVirtual Hang-out 9:30-10:00AM EDTConnect with old and new recovering friends before the sessions start \nSession 1: 10:00-10:50AM EDTWhat blocks me from exploring the joys of recovery? What habits\, behaviors or actions do I use to avoid relationships or intimacy with others? Do I have a chronic pattern of isolation? Am I avoiding vulnerability at all costs? Am I willing to accept that control does not always equal safety? Do I know how to have fun? Am I engaging in top line behaviors? This session explores top line behaviors and how our disease wants us to avoid them. \nSession 2: 11:00-11:50AM EDTLearning to love myself and to love others by loving Higher Power first. In Step 11 our Basic Text talks about learning to walk through each day with the sense of being hand-in-hand with H.P. as a spring of love seemed to flow from within. “Thus we came to find intimacy with ourselves\, intimacy with God\, and the intimacy with others.” (Step 11 page 101) What is your experience with learning to love H.P.\, yourself and others? This session discusses how developing a loving relationship with our Higher Power can help us to learn to love ourselves and others. \nSession 3: 12:00-12:50PM EDTPreparing for new beginnings and watching our recovery grow. Am I living a new positive\, unfolding life? Am I finding it easier to make better choices for myself? Am I unafraid of honesty and openness with others? Am I noticing that I have more dignity of self? Do I accept my own imperfections and mistakes as part of being human? This session explores the signs of recovery for each of us – as individuals – and encourages us to celebrate our progress on the path of recovery. \nGratitude Meeting / Closing 1:00-1:30PM EDTClose out the Spring gathering with gratitude for fellowship and our recovery. \n\n\n\n\n\n\n\n\n\n\n\nSpring-Gathering-2021-Save-the-Date-flyer-v2Download
URL:https://slaanei.org/event/spring-gathering-2021
CATEGORIES:Gatherings,NEI,SLAA
END:VEVENT
BEGIN:VEVENT
DTSTART;TZID=America/New_York:20210418T100000
DTEND;TZID=America/New_York:20210418T123000
DTSTAMP:20260424T235200
CREATED:20210403T011242Z
LAST-MODIFIED:20210403T011244Z
UID:6370-1618740000-1618749000@slaanei.org
SUMMARY:The Art of Sponsorship
DESCRIPTION:Are you considering whether or not you should have a sponsor?Are you worried about how to ask for a sponsor? Are you asponsor looking for ways to improve the quality of yoursponsorship?If so\, this workshop is for you!Schedule– 10:00 Introduction– 10:10 Sponsors share– 10:30 Sponsee perspective– 10:40 Discussion– 11:00 Sponsors share– 11:25 Breakout sessions– 11:50 Breakout learnings share – 12:25 ClosingHandouts will be available electronically. Some are not conferenceapproved and do not represent the views and opinions of SLAA as a whole.RSVP: Jeff B at lablom@gmail.com as soon as possible to help us setupthe small group breakout rooms \n\n\n\nSponsor-2021-Flyer-Final-9027Download
URL:https://slaanei.org/event/the-art-of-sponsorship
CATEGORIES:non-NEI
END:VEVENT
BEGIN:VEVENT
DTSTART;TZID=America/New_York:20210411T170000
DTEND;TZID=America/New_York:20210411T190000
DTSTAMP:20260424T235200
CREATED:20200409T232002Z
LAST-MODIFIED:20210104T134938Z
UID:5120-1618160400-1618167600@slaanei.org
SUMMARY:NEI Monthly Meeting
DESCRIPTION:Topic: Monthly NEI Meeting05:00 PM Eastern Time (US and Canada) \nJoin Zoom Meetinghttps://us02web.zoom.us/j/128213347 \nMeeting ID: 128 213 347 \nDial by your location+1 929 205 6099 US (New York) \nHave you ever wondered what its’ like to do service at the Intergroup level? NEI needs your SUPPORT and your IDEAS. Join us at one of our monthly Intergroup meetings either in person or by conference call. \nMeetings typically take place the 2nd Sunday of each month from 5:00PM – 7:00PM except where noted.
URL:https://slaanei.org/event/nei-monthly-meeting-april-2021
CATEGORIES:monthly,NEI
END:VEVENT
BEGIN:VEVENT
DTSTART;TZID=America/New_York:20210314T170000
DTEND;TZID=America/New_York:20210314T190000
DTSTAMP:20260424T235200
CREATED:20200409T231922Z
LAST-MODIFIED:20210104T134909Z
UID:5118-1615741200-1615748400@slaanei.org
SUMMARY:NEI Monthly Meeting
DESCRIPTION:Topic: Monthly NEI Meeting05:00 PM Eastern Time (US and Canada) \nJoin Zoom Meetinghttps://us02web.zoom.us/j/128213347 \nMeeting ID: 128 213 347 \nDial by your location+1 929 205 6099 US (New York) \nHave you ever wondered what its’ like to do service at the Intergroup level? NEI needs your SUPPORT and your IDEAS. Join us at one of our monthly Intergroup meetings either in person or by conference call. \nMeetings typically take place the 2nd Sunday of each month from 5:00PM – 7:00PM except where noted.
URL:https://slaanei.org/event/nei-monthly-meeting-march-2021
CATEGORIES:monthly,NEI
END:VEVENT
BEGIN:VEVENT
DTSTART;TZID=America/New_York:20210214T170000
DTEND;TZID=America/New_York:20210214T190000
DTSTAMP:20260424T235200
CREATED:20200409T231834Z
LAST-MODIFIED:20210104T134711Z
UID:5116-1613322000-1613329200@slaanei.org
SUMMARY:NEI Monthly Meeting
DESCRIPTION:Topic: Monthly NEI Meeting05:00 PM Eastern Time (US and Canada) \nJoin Zoom Meetinghttps://us02web.zoom.us/j/128213347 \nMeeting ID: 128 213 347 \nDial by your location+1 929 205 6099 US (New York) \nHave you ever wondered what its’ like to do service at the Intergroup level? NEI needs your SUPPORT and your IDEAS. Join us at one of our monthly Intergroup meetings either in person or by conference call. \nMeetings typically take place the 2nd Sunday of each month from 5:00PM – 7:00PM except where noted.
URL:https://slaanei.org/event/nei-monthly-meeting-february-2021
CATEGORIES:monthly,NEI
END:VEVENT
BEGIN:VEVENT
DTSTART;TZID=America/New_York:20210214T140000
DTEND;TZID=America/New_York:20210214T163000
DTSTAMP:20260424T235200
CREATED:20210119T015835Z
LAST-MODIFIED:20210215T151515Z
UID:6153-1613311200-1613320200@slaanei.org
SUMMARY:We are Not Alone\, Meeting & Games
DESCRIPTION:NEI Zoom Meeting & Games \n\n\n\n2:00pm Open Meeting – family\, friends\, and significantothers are welcome.2:30–4:00pm Fellowship and GamesValentine’s Day can be a struggle\, so come for some extrasupport to help stay sober while socializing with others inrecovery.Please join us for an afternoon of laughter and fun. It’s achance to meet new friends and enjoy a sober afternoon. \n\n\n\nZoom Meeting ID: 813 8463 0444 email webmaster@slaanei.org for zoom passwordhttps://us02web.zoom.us/j/81384630444 \n\n\n\nHosted by the New England Intergroup of S.L.A.A.Contact the activities committee with any questions: activities@slaanei.org \n\n\n\nWe-Are-not-Alone-flyer-emailDownload
URL:https://slaanei.org/event/we-are-not-alone
CATEGORIES:Game Nights,Gatherings,NEI
END:VEVENT
BEGIN:VEVENT
DTSTART;TZID=America/New_York:20210213T140000
DTEND;TZID=America/New_York:20210213T170000
DTSTAMP:20260424T235200
CREATED:20210202T231306Z
LAST-MODIFIED:20210202T231407Z
UID:6309-1613224800-1613235600@slaanei.org
SUMMARY:Love Will Be A Choice virtual workshop (Houston SLAA)
DESCRIPTION:Save the DateThe Houston S.L.A.A. free virtual workshop will be on Saturday\, February 13\, from 1 PM to 4 PM CST (Houston time zone). Fellowship begins at 12:30 PM. LOVE WILL BE A CHOICE is the theme for our winter workshop. We will have a female and a male keynote speaker\, two break-out sessions for sharing\, and the popular “Ask-It Basket” where attendees will be able to pose questions to members of our fellowship with long term sobriety.ADMISSION IS FREE\, but you must register to attend with the following link: http://bit.ly/2021WinterWorkshop. Please consider a suggested donation of $3 if donations are in your spending plan. Donations support Houston Intergroup to pay for Zoom. Donations can be made via the PayPal app @AugustineFellowship or online https://slaa-houston.org/events.  Flyer For This Event: IG Winter Workshop.jpgWe look forward to seeing you there.
URL:https://slaanei.org/event/love-will-be-a-choice-virtual-workshop-houston-slaa
CATEGORIES:Gatherings,non-NEI
END:VEVENT
BEGIN:VEVENT
DTSTART;TZID=America/New_York:20210110T170000
DTEND;TZID=America/New_York:20210110T190000
DTSTAMP:20260424T235200
CREATED:20200409T231727Z
LAST-MODIFIED:20210104T134619Z
UID:5113-1610298000-1610305200@slaanei.org
SUMMARY:NEI Monthly Meeting
DESCRIPTION:Topic: Monthly NEI Meeting05:00 PM Eastern Time (US and Canada) \nJoin Zoom Meetinghttps://us02web.zoom.us/j/128213347 \nMeeting ID: 128 213 347 \nDial by your location+1 929 205 6099 US (New York) \nHave you ever wondered what its’ like to do service at the Intergroup level? NEI needs your SUPPORT and your IDEAS. Join us at one of our monthly Intergroup meetings either in person or by conference call. \nMeetings typically take place the 2nd Sunday of each month from 5:00PM – 7:00PM except where noted.
URL:https://slaanei.org/event/nei-monthly-meeting-january-2021
CATEGORIES:monthly,NEI
END:VEVENT
BEGIN:VEVENT
DTSTART;TZID=America/New_York:20210101T150000
DTEND;TZID=America/New_York:20210101T161500
DTSTAMP:20260424T235200
CREATED:20201208T143802Z
LAST-MODIFIED:20201208T143844Z
UID:5725-1609513200-1609517700@slaanei.org
SUMMARY:SLAA-LA Holiday Mini-Marathons jan1
DESCRIPTION:Our annual Christmas Day and News Years Day mini-marathons are moving to Zoom.  As usual\, there are two meetings each day each featuring a speaker and then group sharing.  They’ll be a brief break in between meetings.  Eating and drinking (no alcohol please) are strongly encouraged.  As always\, our meeting leader is the internationally recognized Fred R.  Well\, locally recognized anyway.   The marathons are on December 25th and January 1st\, from 12:00 to 1:15 and 1:30 to 2:15 PST each day.   \n\n\n\nZoom Meeting Room 8391-076-2584\, Zoom Passcode Hope333.   \n\n\n\nThe marathons are free but there’ll be a Seventh Tradition collection.  Thankfully\, no masks or social distancing required!  See the attached flier for details.    Feel free to forward this email to anyone who might be interested and post the flier in Chat at your meetings. and/or on your local SLAA websites  These are difficult\, almost impossible\, times.  Let’s stick together.  \n\n\n\nXMAS-NY-Mini-Marathon-Flier-finalDownload
URL:https://slaanei.org/event/slaa-la-holiday-mini-marathons-jan1
END:VEVENT
BEGIN:VEVENT
DTSTART;TZID=America/New_York:20201225T150000
DTEND;TZID=America/New_York:20201225T161500
DTSTAMP:20260424T235200
CREATED:20201208T143721Z
LAST-MODIFIED:20201208T143723Z
UID:5722-1608908400-1608912900@slaanei.org
SUMMARY:SLAA-LA Holiday Mini-Marathons
DESCRIPTION:Our annual Christmas Day and News Years Day mini-marathons are moving to Zoom.  As usual\, there are two meetings each day each featuring a speaker and then group sharing.  They’ll be a brief break in between meetings.  Eating and drinking (no alcohol please) are strongly encouraged.  As always\, our meeting leader is the internationally recognized Fred R.  Well\, locally recognized anyway.   The marathons are on December 25th and January 1st\, from 12:00 to 1:15 and 1:30 to 2:15 PST each day.   \n\n\n\nZoom Meeting Room 8391-076-2584\, Zoom Passcode Hope333.   \n\n\n\nThe marathons are free but there’ll be a Seventh Tradition collection.  Thankfully\, no masks or social distancing required!  See the attached flier for details.    Feel free to forward this email to anyone who might be interested and post the flier in Chat at your meetings. and/or on your local SLAA websites  These are difficult\, almost impossible\, times.  Let’s stick together.  \n\n\n\nXMAS-NY-Mini-Marathon-Flier-finalDownload
URL:https://slaanei.org/event/slaa-la-holiday-mini-marathons
END:VEVENT
BEGIN:VEVENT
DTSTART;TZID=America/New_York:20201219T190000
DTEND;TZID=America/New_York:20201219T203000
DTSTAMP:20260424T235200
CREATED:20201019T003316Z
LAST-MODIFIED:20201219T181352Z
UID:5688-1608404400-1608409800@slaanei.org
SUMMARY:Top Line Game Night
DESCRIPTION:Top Line Game Night\nJoin us for some Social Distancing Fun with games & triviaWe will be meeting on Zoomhttps://us02web.zoom.us/j/82304355582 \nNOTE: Please email webmaster@slaanei.org for meeting password. (password is the same for all Game Night meetings) \nYou should have 2 devices (probably a phone and computer)\, one connected to zoom\, and one you will answer questions with. This will be done by navigating to a website. Don’t worry\, we’ll walk you through it.  \nWe will do some quick checkins\, and then do some trivia/games. We will be choosing different categories/games throughout the night\, so we will cover lots of different things. All are welcome! \n 
URL:https://slaanei.org/event/top-line-trivia-dec-19
CATEGORIES:Game Nights,Gatherings,NEI
END:VEVENT
BEGIN:VEVENT
DTSTART;TZID=America/New_York:20201213T170000
DTEND;TZID=America/New_York:20201213T190000
DTSTAMP:20260424T235200
CREATED:20191209T175318Z
LAST-MODIFIED:20210104T134825Z
UID:4754-1607878800-1607886000@slaanei.org
SUMMARY:NEI Monthly Meeting
DESCRIPTION:Topic: Monthly NEI Meeting05:00 PM Eastern Time (US and Canada) \nJoin Zoom Meetinghttps://us02web.zoom.us/j/128213347 \nMeeting ID: 128 213 347 \nDial by your location+1 929 205 6099 US (New York) \nHave you ever wondered what its’ like to do service at the Intergroup level? NEI needs your SUPPORT and your IDEAS. Join us at one of our monthly Intergroup meetings either in person or by conference call. \nMeetings typically take place the 2nd Sunday of each month from 5:00PM – 7:00PM except where noted.
URL:https://slaanei.org/event/nei-monthly-meeting-december-2020
CATEGORIES:monthly,NEI
END:VEVENT
BEGIN:VEVENT
DTSTART;TZID=America/New_York:20201211T203000
DTEND;TZID=America/New_York:20201213T120000
DTSTAMP:20260424T235200
CREATED:20200114T012056Z
LAST-MODIFIED:20200928T021319Z
UID:4799-1607718600-1607860800@slaanei.org
SUMMARY:CANCELLED Vermont 12-Step Weekend 12-11-2020
DESCRIPTION:December 12-step retreat cancelled: In order to hold our S.L.A.A. 12-step retreats\, NEI needs toguarantee 10 participants attending the Vermont retreat a minimum of four weeks prior to the retreatweekend. The October 2-4\, 2020 retreat had only five registrations and\, therefore\, it was cancelled.Given that the October retreat was cancelled\, the decision was made to also cancel the Decemberretreat and try again in 2021 when hopefully COVID-19 protocols will allow members to participatemore comfortably. If you are interested in attending one of our 12-step retreats\, please keep checkingthe NEI website or subscribe to our newsletter for information. Please sign up early so we know if wecan meet the minimum attendee requirements.
URL:https://slaanei.org/event/vermont-12-step-weekend-12-11-2020
LOCATION:VT Retreat House\, Chester\, VT\, 05144\, United States
CATEGORIES:NEI,Retreats,VT Weekend
END:VEVENT
BEGIN:VEVENT
DTSTART;TZID=America/New_York:20201205T190000
DTEND;TZID=America/New_York:20201205T203000
DTSTAMP:20260424T235200
CREATED:20201019T003209Z
LAST-MODIFIED:20201019T003253Z
UID:5686-1607194800-1607200200@slaanei.org
SUMMARY:Top Line Game Night
DESCRIPTION:Top Line Game Night\nJoin us for some Social Distancing Fun with games & triviaWe will be meeting on Zoomhttps://us02web.zoom.us/j/82304355582 \nNOTE: Please email webmaster@slaanei.org for meeting password. (password is the same for all trivia meetings) \nYou should have 2 devices (probably a phone and computer)\, one connected to zoom\, and one you will answer questions with. This will be done by navigating to a website. Don’t worry\, we’ll walk you through it.  \nWe will do some quick checkins\, and then do some trivia/games. We will be choosing different categories throughout the night\, so we will cover lots of different things. All are welcome!
URL:https://slaanei.org/event/top-line-trivia-dec-5
CATEGORIES:Gatherings,NEI
END:VEVENT
BEGIN:VEVENT
DTSTART;TZID=America/New_York:20201129T160000
DTEND;TZID=America/New_York:20201129T190000
DTSTAMP:20260424T235200
CREATED:20201117T133925Z
LAST-MODIFIED:20201117T134222Z
UID:5715-1606665600-1606676400@slaanei.org
SUMMARY:SLAA Mini-Retreat
DESCRIPTION:The Los Angeles SLAA Intergroup Presents:Serenity & HopeAn afternoon of serenity and hopeduring these turbulent timesHosted On-line via ZOOM*\n\n\n\nSunday\, November 29th from 1:00 to 4:00PM (PST)FREE to Attend\, Opens @ 12:45pm and Starts @ 1:00pm (PST)Join us at the close of the Thanksgiving holiday weekend to explore ourongoing need for gratitude\, quiet\, resilience and hope. There will bespeakers\, meditations and small group sharing. Get ready for the Holidaysand the New Year by spending time with your sisters and brothers inrecovery as we try to find ways to manager life in difficult times.For more information: contact your Intergroup Rep or gglind@yahoo.com
URL:https://slaanei.org/event/slaa-mini-retreat
END:VEVENT
BEGIN:VEVENT
DTSTART;TZID=America/New_York:20201121T190000
DTEND;TZID=America/New_York:20201121T203000
DTSTAMP:20260424T235200
CREATED:20200922T132400Z
LAST-MODIFIED:20200922T132432Z
UID:5635-1605985200-1605990600@slaanei.org
SUMMARY:Top Line Game Night
DESCRIPTION:Top Line Game Night\nJoin us for some Social Distancing Fun with games & triviaWe will be meeting on Zoomhttps://us02web.zoom.us/j/82304355582 \nNOTE: Please email webmaster@slaanei.org for meeting password. (password is the same for all trivia meetings) \nYou should have 2 devices (probably a phone and computer)\, one connected to zoom\, and one you will answer questions with. This will be done by navigating to a website. Don’t worry\, we’ll walk you through it.  \nWe will do some quick checkins\, and then do some trivia/games. We will be choosing different categories throughout the night\, so we will cover lots of different things. All are welcome!
URL:https://slaanei.org/event/top-line-trivia-nov-14
CATEGORIES:Gatherings,NEI
END:VEVENT
BEGIN:VEVENT
DTSTART;TZID=America/New_York:20201114T150000
DTEND;TZID=America/New_York:20201114T163000
DTSTAMP:20260424T235200
CREATED:20201025T195156Z
LAST-MODIFIED:20201026T041231Z
UID:5694-1605366000-1605371400@slaanei.org
SUMMARY:Sober Dating Panel Discussion
DESCRIPTION: On Saturday November 14th San Francisco Intergroup is putting on a sober dating panel discussion from 12-1:30 Pacific Time\, 3p-4:30p EST and anyone is invited to attend. \n\n\n\nDownload flyer HERE\n\n\n\nThere will be five panelists of different backgrounds & genders who will share their experience\, strength and hope on sober dating in SLAA recovery. Introductions will be followed by a Q&A including valuable information that be applied to relationships of all kinds\, including romantic\, friendships\, work and family” \n\n\n\nZoom Meeting ID: 754 213 9319Passcode: sobdatingPhone-in info: https://bit.ly/2IQLr1P$10 suggested donation* \n\n\n\nTopic: SFEB Teleconfererence2’s Zoom MeetingTime: Nov 14\, 2020 12:00 PM Pacific Time (US and Canada) \n\n\n\nJoin Zoom Meetinghttps://us02web.zoom.us/j/7542139319?pwd=UjNBY0hXOERMUzkxaXplZS8zNHpxZz09 \n\n\n\nMeeting ID: 754 213 9319Passcode: sobdatingOne tap mobile+16699006833\,\,7542139319#\,\,\,\,\,\,0#\,\,238550719# US (San Jose)+13462487799\,\,7542139319#\,\,\,\,\,\,0#\,\,238550719# US (Houston) \n\n\n\nDial by your location       +1 669 900 6833 US (San Jose)       +1 346 248 7799 US (Houston)       +1 253 215 8782 US (Tacoma)       +1 312 626 6799 US (Chicago)       +1 929 205 6099 US (New York)       +1 301 715 8592 US (Germantown)Meeting ID: 754 213 9319Passcode: 238550719Find your local number: https://us02web.zoom.us/u/kdTYrddF6T
URL:https://slaanei.org/event/sober-dating-panel-discussion
END:VEVENT
BEGIN:VEVENT
DTSTART;TZID=America/New_York:20201108T170000
DTEND;TZID=America/New_York:20201108T190000
DTSTAMP:20260424T235200
CREATED:20191209T175235Z
LAST-MODIFIED:20200802T003431Z
UID:4752-1604854800-1604862000@slaanei.org
SUMMARY:NEI Monthly Meeting
DESCRIPTION:Bowles Conference Room #6\, 2014 Washington Street\, Newton\, MA 02461 \nTopic: Monthly NEI Meeting\n05:00 PM Eastern Time (US and Canada) \nJoin Zoom Meeting\nhttps://us02web.zoom.us/j/128213347 \nMeeting ID: 128 213 347 \nDial by your location\n+1 929 205 6099 US (New York) \nHave you ever wondered what its’ like to do service at the Intergroup level? NEI needs your SUPPORT and your IDEAS. Join us at one of our monthly Intergroup meetings either in person or by conference call. \nMeetings typically take place the 2nd Sunday of each month from 5:00PM – 7:00PM except where noted.
URL:https://slaanei.org/event/nei-monthly-meeting-november-2020
LOCATION:Newton Wellesely Hospital\, 2014 Washington St\, Newton\, MA\, 02461\, United States
CATEGORIES:monthly,NEI
END:VEVENT
BEGIN:VEVENT
DTSTART;TZID=America/New_York:20201107T190000
DTEND;TZID=America/New_York:20201107T203000
DTSTAMP:20260424T235200
CREATED:20200922T132302Z
LAST-MODIFIED:20201107T235302Z
UID:5633-1604775600-1604781000@slaanei.org
SUMMARY:Top Line Game Night
DESCRIPTION:Top Line Game Night\nJoin us for some Social Distancing Fun with games & triviaWe will be meeting on Zoomhttps://us02web.zoom.us/j/82304355582 \nNOTE: Please email webmaster@slaanei.org for meeting password. (password is the same for all trivia meetings) \nYou should have 2 devices (probably a phone and computer)\, one connected to zoom\, and one you will answer questions with. This will be done by navigating to a website. Don’t worry\, we’ll walk you through it.  \nWe will do some quick checkins\, and then do some trivia/games. We will be choosing different categories throughout the night\, so we will cover lots of different things. All are welcome! \n  \n\n\n\n\n\n\n\n\nSign up for Game Night updates and reminders
URL:https://slaanei.org/event/top-line-trivia-nov-7
CATEGORIES:Gatherings,NEI
END:VEVENT
BEGIN:VEVENT
DTSTART;TZID=America/New_York:20201107T110000
DTEND;TZID=America/New_York:20201107T180000
DTSTAMP:20260424T235200
CREATED:20200819T220017Z
LAST-MODIFIED:20201107T144941Z
UID:5544-1604746800-1604772000@slaanei.org
SUMMARY:You Are Not Alone Virtual Fall Recovery Gathering
DESCRIPTION:12 Step S.L.A.A. Meetings\nJoin us for sharing on a variety of 60 minute Topic Meetings throughout the day \nThe theme of the gathering is: \n“You are Not Alone”\nSaturday\, November 7\, 202011:00 AM – 6:00PM EST \nDeadline for registering for event is 11:59pm ET Thursday\, November 5\, 2020 Cost to Register: $25 for all sessions which helps to support the New England Intergroup (NEI)to continue to work to carry the message to the Sex and Love addict who still suffers. Limitedscholarships are available by emailing activities “at” slaanei.org. \nDownload Flyer & Topic Descriptions Here
URL:https://slaanei.org/event/fall-gathering-2020
CATEGORIES:Gatherings,NEI
END:VEVENT
END:VCALENDAR