BEGIN:VCALENDAR
VERSION:2.0
PRODID:-//New England Intergroup - ECPv6.15.11//NONSGML v1.0//EN
CALSCALE:GREGORIAN
METHOD:PUBLISH
X-WR-CALNAME:New England Intergroup
X-ORIGINAL-URL:https://slaanei.org
X-WR-CALDESC:Events for New England Intergroup
REFRESH-INTERVAL;VALUE=DURATION:PT1H
X-Robots-Tag:noindex
X-PUBLISHED-TTL:PT1H
BEGIN:VTIMEZONE
TZID:America/New_York
BEGIN:DAYLIGHT
TZOFFSETFROM:-0500
TZOFFSETTO:-0400
TZNAME:EDT
DTSTART:20250309T070000
END:DAYLIGHT
BEGIN:STANDARD
TZOFFSETFROM:-0400
TZOFFSETTO:-0500
TZNAME:EST
DTSTART:20251102T060000
END:STANDARD
BEGIN:DAYLIGHT
TZOFFSETFROM:-0500
TZOFFSETTO:-0400
TZNAME:EDT
DTSTART:20260308T070000
END:DAYLIGHT
BEGIN:STANDARD
TZOFFSETFROM:-0400
TZOFFSETTO:-0500
TZNAME:EST
DTSTART:20261101T060000
END:STANDARD
BEGIN:DAYLIGHT
TZOFFSETFROM:-0500
TZOFFSETTO:-0400
TZNAME:EDT
DTSTART:20270314T070000
END:DAYLIGHT
BEGIN:STANDARD
TZOFFSETFROM:-0400
TZOFFSETTO:-0500
TZNAME:EST
DTSTART:20271107T060000
END:STANDARD
END:VTIMEZONE
BEGIN:VEVENT
DTSTART;TZID=America/New_York:20260513T180000
DTEND;TZID=America/New_York:20260513T193000
DTSTAMP:20260423T174843
CREATED:20251229T214213Z
LAST-MODIFIED:20251229T214307Z
UID:7963-1778695200-1778700600@slaanei.org
SUMMARY:NEI Monthly Meeting May 2026- Wed May 13th
DESCRIPTION:Topic: Monthly NEI Meeting06:00 PM Eastern Time (US and Canada) \nZoom info please email info@slaanei.org \n 
URL:https://slaanei.org/event/nei-monthly-meeting-may-26
LOCATION:MA
CATEGORIES:monthly,NEI
END:VEVENT
BEGIN:VEVENT
DTSTART;TZID=America/New_York:20260610T180000
DTEND;TZID=America/New_York:20260610T193000
DTSTAMP:20260423T174843
CREATED:20251229T214332Z
LAST-MODIFIED:20251229T215846Z
UID:7965-1781114400-1781119800@slaanei.org
SUMMARY:NEI Monthly Meeting June 2026- Wed Jun 10th
DESCRIPTION:Topic: Monthly NEI Meeting06:00 PM Eastern Time (US and Canada) \nZoom info please email info@slaanei.org \n 
URL:https://slaanei.org/event/nei-monthly-meeting-jun-26
LOCATION:MA
CATEGORIES:monthly,NEI
END:VEVENT
BEGIN:VEVENT
DTSTART;TZID=America/New_York:20260612T180000
DTEND;TZID=America/New_York:20260614T120000
DTSTAMP:20260423T174843
CREATED:20260228T202645Z
LAST-MODIFIED:20260228T210821Z
UID:7996-1781287200-1781438400@slaanei.org
SUMMARY:S.L.A.A. Weekend Retreat – June12-14\, 2026
DESCRIPTION:NEW ENGLAND INTERGROUP (NEI) OF SEX AND LOVE ADDICTS ANONYMOUS PRESENTS: \nS.L.A.A. Weekend Retreat – June 12-14\, 2026\nDrop the Rock!\nThe Freedom We Find in Letting Go of Our Character Defects Through Steps 6\, 7 & 10 \nJune 12-14\, 2026 \nCost: $280 or with early registration $260 (see deadlines) \nEarly registration if payment is received by 5/1/2026\n$ -20 DISCOUNT\n$260 COST \n$260.00 Includes: 2 nights lodging with towels\, blankets\, linens & 5 meals—3 on Saturday & 2 on Sunday. \nTentative Schedule start Friday @ 6:00pm and end Sunday 12:00pm \nDOWNLOAD THE FLYER HERE\nRetreat flyer Drop the Rock June 12 thru 14-2026 Glastonbury Abbey\n \nIn this retreat\, our focus will be on the profound impact of Steps 6 and 7 in guiding us towards genuine freedom. We invite you to join us for an\nimmersive exploration of these often-hurried steps. During this retreat\, we will delve into the insights provided by the second\nedition of Drop The Rock book\, authored by Bill P.\, Todd W.\, and Sara S.\, along with SLAA materials. Our goal is to facilitate a deep understanding of the\ntransformative power through these steps\, fostering personal growth and the liberation from character defects.\nThis recovery retreat provides a supportive environment for reflection\, learning\, and connection. Join us for this deep dive into self-discovery and\nhealing as we work together to navigate the path to true freedom. \nWhat is the Drop the Rock concept?\n• The concept of “dropping the rock” is a metaphor for releasing resentments\, destructive patterns\, and character defects.\n• It’s a core part of Twelve Step recovery.\n• It relates to Steps 6 and 7\, which focus on asking a higher power for help. \nWhy is “dropping the rock” important?\n• It can lead to lasting change and authentic recovery.\n• It can create a “ripple effect” of healing and positivity on others.\n• It can help people move forward unburdened by their past. \nParticipants will:\n• Discuss the story of “Drop the Rock”.\n• Share their own experiences with “dropping the rock”.\n• Explore the principles behind Steps 6 and 7 and how Step 10 complements our maintenance of recovery.\n• Learn how to apply these principles to our own lives. \nThe process of identifying these tendencies and stopping the behaviors will not only help those in recovery but will lead us to true happiness and\nusefulness to others. \nAdditional Notes: \n1. In addition to SLAA Step materials\, we will be using some non-Conference approved materials\, e.g. Drop the Rock book.\nTo review the free pdf download go to Hazelden – Drop the Rock book pdf download . You will need this for the weekend.\n2. To hear the inspiration for the concept of Drop the Rock and the book\, go to YouTube:Sandy Beach – Drop the Rock – AA Speaker. \nWe look forward to seeing you soon!  \n 
URL:https://slaanei.org/event/june2026weekendretreat
LOCATION:Glastonbury Abbey\, 16 Hull Street\, Hingham\, MA\, 02043\, United States
CATEGORIES:Gatherings,NEI,SLAA
END:VEVENT
BEGIN:VEVENT
DTSTART;TZID=America/New_York:20260708T180000
DTEND;TZID=America/New_York:20260708T193000
DTSTAMP:20260423T174843
CREATED:20251229T215857Z
LAST-MODIFIED:20251229T215946Z
UID:7967-1783533600-1783539000@slaanei.org
SUMMARY:NEI Monthly Meeting July 2026- Wed Jul 8th
DESCRIPTION:Topic: Monthly NEI Meeting06:00 PM Eastern Time (US and Canada) \nZoom info please email info@slaanei.org \n 
URL:https://slaanei.org/event/nei-monthly-meeting-jul-26
LOCATION:MA
CATEGORIES:monthly,NEI
END:VEVENT
BEGIN:VEVENT
DTSTART;TZID=America/New_York:20260812T180000
DTEND;TZID=America/New_York:20260812T193000
DTSTAMP:20260423T174843
CREATED:20251229T220141Z
LAST-MODIFIED:20251229T220233Z
UID:7969-1786557600-1786563000@slaanei.org
SUMMARY:NEI Monthly Meeting Aug 2026- Wed Aug 12th
DESCRIPTION:Topic: Monthly NEI Meeting06:00 PM Eastern Time (US and Canada) \nZoom info please email info@slaanei.org \n 
URL:https://slaanei.org/event/nei-monthly-meeting-aug-26
LOCATION:MA
CATEGORIES:monthly,NEI
END:VEVENT
BEGIN:VEVENT
DTSTART;TZID=America/New_York:20260909T180000
DTEND;TZID=America/New_York:20260909T193000
DTSTAMP:20260423T174843
CREATED:20251229T220242Z
LAST-MODIFIED:20251229T220905Z
UID:7971-1788976800-1788982200@slaanei.org
SUMMARY:NEI Monthly Meeting September 2026- Wed Sep 9th
DESCRIPTION:Topic: Monthly NEI Meeting06:00 PM Eastern Time (US and Canada) \nZoom info please email info@slaanei.org \n 
URL:https://slaanei.org/event/nei-monthly-meeting-sep-26
LOCATION:MA
CATEGORIES:monthly,NEI
END:VEVENT
BEGIN:VEVENT
DTSTART;TZID=America/New_York:20261014T180000
DTEND;TZID=America/New_York:20261014T193000
DTSTAMP:20260423T174843
CREATED:20251229T220333Z
LAST-MODIFIED:20251229T220850Z
UID:7973-1792000800-1792006200@slaanei.org
SUMMARY:NEI Monthly Meeting October 2026- Wed Oct 14th
DESCRIPTION:Topic: Monthly NEI Meeting06:00 PM Eastern Time (US and Canada) \nZoom info please email info@slaanei.org \n 
URL:https://slaanei.org/event/nei-monthly-meeting-oct-26
LOCATION:MA
CATEGORIES:monthly,NEI
END:VEVENT
BEGIN:VEVENT
DTSTART;TZID=America/New_York:20261111T180000
DTEND;TZID=America/New_York:20261111T193000
DTSTAMP:20260423T174843
CREATED:20251229T220440Z
LAST-MODIFIED:20251229T220832Z
UID:7975-1794420000-1794425400@slaanei.org
SUMMARY:NEI Monthly Meeting November 2026- Wed Nov 11th
DESCRIPTION:Topic: Monthly NEI Meeting06:00 PM Eastern Time (US and Canada) \nZoom info please email info@slaanei.org \n 
URL:https://slaanei.org/event/nei-monthly-meeting-nov-26
LOCATION:MA
CATEGORIES:monthly,NEI
END:VEVENT
BEGIN:VEVENT
DTSTART;TZID=America/New_York:20261209T180000
DTEND;TZID=America/New_York:20261209T193000
DTSTAMP:20260423T174843
CREATED:20251229T220727Z
LAST-MODIFIED:20251229T220811Z
UID:7977-1796839200-1796844600@slaanei.org
SUMMARY:NEI Monthly Meeting December 2026- Wed Dec 9th
DESCRIPTION:Topic: Monthly NEI Meeting06:00 PM Eastern Time (US and Canada) \nZoom info please email info@slaanei.org \n 
URL:https://slaanei.org/event/nei-monthly-meeting-dec-26-copy
LOCATION:MA
CATEGORIES:monthly,NEI
END:VEVENT
END:VCALENDAR