BEGIN:VCALENDAR
VERSION:2.0
PRODID:-//New England Intergroup - ECPv6.15.11//NONSGML v1.0//EN
CALSCALE:GREGORIAN
METHOD:PUBLISH
X-ORIGINAL-URL:https://slaanei.org
X-WR-CALDESC:Events for New England Intergroup
REFRESH-INTERVAL;VALUE=DURATION:PT1H
X-Robots-Tag:noindex
X-PUBLISHED-TTL:PT1H
BEGIN:VTIMEZONE
TZID:America/New_York
BEGIN:DAYLIGHT
TZOFFSETFROM:-0500
TZOFFSETTO:-0400
TZNAME:EDT
DTSTART:20200308T070000
END:DAYLIGHT
BEGIN:STANDARD
TZOFFSETFROM:-0400
TZOFFSETTO:-0500
TZNAME:EST
DTSTART:20201101T060000
END:STANDARD
BEGIN:DAYLIGHT
TZOFFSETFROM:-0500
TZOFFSETTO:-0400
TZNAME:EDT
DTSTART:20210314T070000
END:DAYLIGHT
BEGIN:STANDARD
TZOFFSETFROM:-0400
TZOFFSETTO:-0500
TZNAME:EST
DTSTART:20211107T060000
END:STANDARD
BEGIN:DAYLIGHT
TZOFFSETFROM:-0500
TZOFFSETTO:-0400
TZNAME:EDT
DTSTART:20220313T070000
END:DAYLIGHT
BEGIN:STANDARD
TZOFFSETFROM:-0400
TZOFFSETTO:-0500
TZNAME:EST
DTSTART:20221106T060000
END:STANDARD
BEGIN:DAYLIGHT
TZOFFSETFROM:-0500
TZOFFSETTO:-0400
TZNAME:EDT
DTSTART:20230312T070000
END:DAYLIGHT
BEGIN:STANDARD
TZOFFSETFROM:-0400
TZOFFSETTO:-0500
TZNAME:EST
DTSTART:20231105T060000
END:STANDARD
BEGIN:DAYLIGHT
TZOFFSETFROM:-0500
TZOFFSETTO:-0400
TZNAME:EDT
DTSTART:20240310T070000
END:DAYLIGHT
BEGIN:STANDARD
TZOFFSETFROM:-0400
TZOFFSETTO:-0500
TZNAME:EST
DTSTART:20241103T060000
END:STANDARD
END:VTIMEZONE
BEGIN:VEVENT
DTSTART;TZID=America/New_York:20231123T133000
DTEND;TZID=America/New_York:20231126T230000
DTSTAMP:20260424T080839
CREATED:20231121T235056Z
LAST-MODIFIED:20231122T010920Z
UID:7431-1700746200-1701039600@slaanei.org
SUMMARY:Thanksgiving Weekend RecoveryThon 2023
DESCRIPTION:The holidays can be a challenging time for those in recovery from Sex and Love Addiction.  Therefore\, the GDVI Retreats team has compiled a special “RecoveryThon” during Thanksgiving Weekend 2023. All events are virtual\, so participants can join from wherever they are using phone\, tablet\, or computer. \nThe RecoveryThon includes 14 Virtual Speaker-Topic Meetings\, 14 Regular SLAA Meetings\, Telemeetings\, Fellowship\, Inspirational Messages\, and Meditations\, and Saturday Night Virtual ‘Family Game Night.’ There is no fee to participate. \nClick Here to view a PDF with the full schedule of events. Please note that the PDF has a password: “recovery” which prevents the meeting passwords from being indexed by search engines like Google.
URL:https://slaanei.org/event/thanksgiving-weekend-recoverython-2023
CATEGORIES:non-NEI
END:VEVENT
BEGIN:VEVENT
DTSTART;TZID=America/New_York:20230318T110000
DTEND;TZID=America/New_York:20230318T143000
DTSTAMP:20260424T080839
CREATED:20230202T142726Z
LAST-MODIFIED:20230202T143115Z
UID:7276-1679137200-1679149800@slaanei.org
SUMMARY:Sponsorship Workshop
DESCRIPTION:Are you struggling with getting a sponsor? Is your sponsor-sponsee relationship not working? Are you delaying working the steps\ndue to lack of sponsorship? Are you lacking support or confidence in becoming a sponsor? You are not alone. \nSaturday March 18\, 2023 Check in starts 30 minutes prior to start time\n8am to 11:30am PT (USA)\n11am to 2:30pm ET (USA)\n4pm to 7:30pm (UK) \nregister for the sponsorship workshop here
URL:https://slaanei.org/event/sponsorship-workshop
CATEGORIES:non-NEI,SLAA
END:VEVENT
BEGIN:VEVENT
DTSTART;TZID=America/New_York:20230212T110000
DTEND;TZID=America/New_York:20230212T160000
DTSTAMP:20260424T080839
CREATED:20230206T211056Z
LAST-MODIFIED:20230206T211124Z
UID:7284-1676199600-1676217600@slaanei.org
SUMMARY:SLAA a Thon 2023
DESCRIPTION:The NY Capital region slaa is hosting a SLAA a Thon on February 12\, 2023 on ZOOM.\nThe theme is Courage to Change.\n11am to 4pm\nZOOM ID 436 569 6559 PW: SLAAaThon (case sensitive)\nFREE / No registration needed\nMore info here: https://capitalregion-slaa.org/slaa-a-thon
URL:https://slaanei.org/event/slaa-a-thon-2023
CATEGORIES:non-NEI
END:VEVENT
BEGIN:VEVENT
DTSTART;TZID=America/New_York:20220101T163000
DTEND;TZID=America/New_York:20220101T171500
DTSTAMP:20260424T080839
CREATED:20211218T202515Z
LAST-MODIFIED:20211220T143343Z
UID:6773-1641054600-1641057300@slaanei.org
SUMMARY:SLAA-LA Holiday Mini Marathon
DESCRIPTION:MINI-MARATHON-FLIER-2021Download\n\n\n\nNOTE: In the spirit of our Traditions\, we are listing these events as a courtesy to fellow members/groups\, to help spread the word. Please note that this is not an NEI sponsored/affiliated event and is not responsible for its planning. If you have questions about the event\, please reach out to the host group for details
URL:https://slaanei.org/event/slaa-la-holiday-mini-marathon-3
CATEGORIES:Gatherings,non-NEI
END:VEVENT
BEGIN:VEVENT
DTSTART;TZID=America/New_York:20220101T150000
DTEND;TZID=America/New_York:20220101T161500
DTSTAMP:20260424T080839
CREATED:20211218T202615Z
LAST-MODIFIED:20211220T143303Z
UID:6776-1641049200-1641053700@slaanei.org
SUMMARY:SLAA-LA Holiday Mini-Marathon
DESCRIPTION:MINI-MARATHON-FLIER-2021Download\n\n\n\nNOTE: In the spirit of our Traditions\, we are listing these events as a courtesy to fellow members/groups\, to help spread the word. Please note that this is not an NEI sponsored/affiliated event and is not responsible for its planning. If you have questions about the event\, please reach out to the host group for details
URL:https://slaanei.org/event/slaa-la-holiday-mini-marathon-4
CATEGORIES:Gatherings,non-NEI
END:VEVENT
BEGIN:VEVENT
DTSTART;TZID=America/New_York:20211225T163000
DTEND;TZID=America/New_York:20211225T171500
DTSTAMP:20260424T080839
CREATED:20211218T202418Z
LAST-MODIFIED:20211220T143226Z
UID:6770-1640449800-1640452500@slaanei.org
SUMMARY:SLAA-LA Holiday Mini Marathon
DESCRIPTION:MINI-MARATHON-FLIER-2021Download\n\n\n\nNOTE: In the spirit of our Traditions\, we are listing these events as a courtesy to fellow members/groups\, to help spread the word. Please note that this is not an NEI sponsored/affiliated event and is not responsible for its planning. If you have questions about the event\, please reach out to the host group for details
URL:https://slaanei.org/event/slaa-la-holiday-mini-marathon-2
CATEGORIES:Gatherings,non-NEI
END:VEVENT
BEGIN:VEVENT
DTSTART;TZID=America/New_York:20211225T150000
DTEND;TZID=America/New_York:20211225T161500
DTSTAMP:20260424T080839
CREATED:20211218T202125Z
LAST-MODIFIED:20211220T143145Z
UID:6767-1640444400-1640448900@slaanei.org
SUMMARY:SLAA-LA Holiday Mini-Marathon
DESCRIPTION:MINI-MARATHON-FLIER-2021Download\n\n\n\nNOTE: In the spirit of our Traditions\, we are listing these events as a courtesy to fellow members/groups\, to help spread the word. Please note that this is not an NEI sponsored/affiliated event and is not responsible for its planning. If you have questions about the event\, please reach out to the host group for details
URL:https://slaanei.org/event/slaa-la-holiday-mini-marathon
CATEGORIES:Gatherings,non-NEI
END:VEVENT
BEGIN:VEVENT
DTSTART;TZID=America/New_York:20211217T080000
DTEND;TZID=America/New_York:20211219T170000
DTSTAMP:20260424T080839
CREATED:20211011T181411Z
LAST-MODIFIED:20211011T181545Z
UID:6710-1639728000-1639933200@slaanei.org
SUMMARY:12 Step Retreat GDVI
DESCRIPTION:Location: Virtually using the Zoom PlatformRetreat Format & Requirements:● During the retreat weekend we will read and share on the 12 Steps-together. If you have worked on theSteps in this type of format before\, you already know its value. If you have not done any study of theSteps\, intensive or otherwise\, this is a great way to do it\, especially the first time. It gives you hope andfaith that the program steps work. Regardless of where any one individual is in the Step study process\,we are able to learn from sharing our experience\, strength and hope with each other.● There will be leaders and speakers selected at random on the Friday introduction of the weekend. Wetrust our Higher Power in this process and know whoever is chosen to speak or lead is strengtheningtheir own recovery and offering value to ours.● All retreat requirements can be found at slaadvi.org/activities \n\n\n\nNOTE: In the spirit of our Traditions\, we are listing these events as a courtesy to fellow members/groups\, to help spread the word. Please note that this is not an NEI sponsored/affiliated event and is not responsible for its planning. If you have questions about the event\, please reach out to the host group for details \n\n\n\n2021-GDVI-retreat-flier_deczoomDownload
URL:https://slaanei.org/event/12-step-retreat-gdvi-2021
CATEGORIES:non-NEI,Retreats
END:VEVENT
BEGIN:VEVENT
DTSTART;TZID=America/New_York:20211121T100000
DTEND;TZID=America/New_York:20211121T150000
DTSTAMP:20260424T080839
CREATED:20211028T232740Z
LAST-MODIFIED:20211028T233109Z
UID:6723-1637488800-1637506800@slaanei.org
SUMMARY:GDVI Virtual Recovery Day
DESCRIPTION:Virutal event held via Zoom \n\n\n\nRegister HERE
URL:https://slaanei.org/event/gdvi-virtual-recovery-day
CATEGORIES:non-NEI
END:VEVENT
BEGIN:VEVENT
DTSTART;TZID=America/New_York:20211015T180000
DTEND;TZID=America/New_York:20211017T170000
DTSTAMP:20260424T080839
CREATED:20210619T002817Z
LAST-MODIFIED:20210928T004555Z
UID:6436-1634320800-1634490000@slaanei.org
SUMMARY:12 Step Retreat 2021 (non NEI)
DESCRIPTION:Dinner is at 6:00 Friday night and departure will be after lunch on SundayModern cabins\, with restrooms and showersCommunity dining hall and great meals \n\n\n\nEvening campfire \n\n\n\nDeep fellowship with fellow addicts \n\n\n\n326 wooded acres on which to wander and reflect \n\n\n\nIndoor and outdoor ChapelsActivity Center \n\n\n\nDownload the flyer HERE \n\n\n\nIn the spirit of our Traditions\, we are listing these events as a courtesy to fellow members/groups\, to help spread the word. Please note that this is not an NEI sponsored/affiliated event and is not responsible for its planning. If you have questions about the event\, please reach out to the host group for details
URL:https://slaanei.org/event/12-step-retreat-2021
CATEGORIES:non-NEI
END:VEVENT
BEGIN:VEVENT
DTSTART;TZID=America/New_York:20210731T140000
DTEND;TZID=America/New_York:20210731T170000
DTSTAMP:20260424T080839
CREATED:20210719T215638Z
LAST-MODIFIED:20210719T215639Z
UID:6462-1627740000-1627750800@slaanei.org
SUMMARY:Houston SLAA Summer Workshop 2021
DESCRIPTION:The Houston Intergroup of S.L.A.A. will host a free virtual workshop on Saturday\, July 31st\, from 1:00 PM to 4:00 PM Central. Fellowship begins at 12:30 PM.Our Summer Workshop is inspired by the S.L.A.A. pamphlet “Romantic Obsession.” We will explore solutions to find release from the bondage of romantic obsession.This event features:Two keynote speakers Choose your own breakout session that’s best suited to your stage of recovery – newcomer/withdrawal\, sober/dating\, or committed partnerships\, andThe popular “Ask-It Basket” where participants can pose “ask me anything” questions to members of our fellowship with long-term sobriety.ADMISSION IS FREE. You must register in advance to attend with the following link: http://bit.ly/HTXSummerWorkshop or slaa-houston.org/events. Please consider a suggested donation of $3 if donations are in your spending plan. Donations support Houston Intergroup to pay for Zoom\, which is our platform for reaching the addict who still suffers. Donations can be made via Venmo @augustineHTX\, PayPal @AugustineFellowship\, Cash app $AugustineHTX or with all major debit and credit cards online at https://slaa-houston.org/events Any amount is appreciated.
URL:https://slaanei.org/event/houston-slaa-summer-workshop-2021
CATEGORIES:non-NEI
END:VEVENT
BEGIN:VEVENT
DTSTART;TZID=America/New_York:20210425T120000
DTEND;TZID=America/New_York:20210425T140000
DTSTAMP:20260424T080839
CREATED:20210315T014804Z
LAST-MODIFIED:20210315T014806Z
UID:6366-1619352000-1619359200@slaanei.org
SUMMARY:Meal Zooming
DESCRIPTION:Want to share your favorite meal that others may not have tried or have not heard about? (Spaghetti & Meatball Pizza anyone?) Well you’re in luck! Join us Sunday April 25\, 2021 @12:00pm for Meal Zooming! A social lunch gathering \n\n\n\nTopic: Meal ZoomingTime: Apr 25\, 2021 12:00 PM Eastern Time (US and Canada) \n\n\n\nJoin Zoom Meetinghttps://us02web.zoom.us/j/87319114941 \n\n\n\nMeeting ID: 873 1911 4941One tap mobile+13126266799\,\,87319114941# US (Chicago) \n\n\n\nPhone929-205-6099Meeting ID: 873 1911 4941
URL:https://slaanei.org/event/meal-zooming
CATEGORIES:Gatherings,non-NEI
END:VEVENT
BEGIN:VEVENT
DTSTART;TZID=America/New_York:20210418T100000
DTEND;TZID=America/New_York:20210418T123000
DTSTAMP:20260424T080839
CREATED:20210403T011242Z
LAST-MODIFIED:20210403T011244Z
UID:6370-1618740000-1618749000@slaanei.org
SUMMARY:The Art of Sponsorship
DESCRIPTION:Are you considering whether or not you should have a sponsor?Are you worried about how to ask for a sponsor? Are you asponsor looking for ways to improve the quality of yoursponsorship?If so\, this workshop is for you!Schedule– 10:00 Introduction– 10:10 Sponsors share– 10:30 Sponsee perspective– 10:40 Discussion– 11:00 Sponsors share– 11:25 Breakout sessions– 11:50 Breakout learnings share – 12:25 ClosingHandouts will be available electronically. Some are not conferenceapproved and do not represent the views and opinions of SLAA as a whole.RSVP: Jeff B at lablom@gmail.com as soon as possible to help us setupthe small group breakout rooms \n\n\n\nSponsor-2021-Flyer-Final-9027Download
URL:https://slaanei.org/event/the-art-of-sponsorship
CATEGORIES:non-NEI
END:VEVENT
BEGIN:VEVENT
DTSTART;TZID=America/New_York:20210213T140000
DTEND;TZID=America/New_York:20210213T170000
DTSTAMP:20260424T080839
CREATED:20210202T231306Z
LAST-MODIFIED:20210202T231407Z
UID:6309-1613224800-1613235600@slaanei.org
SUMMARY:Love Will Be A Choice virtual workshop (Houston SLAA)
DESCRIPTION:Save the DateThe Houston S.L.A.A. free virtual workshop will be on Saturday\, February 13\, from 1 PM to 4 PM CST (Houston time zone). Fellowship begins at 12:30 PM. LOVE WILL BE A CHOICE is the theme for our winter workshop. We will have a female and a male keynote speaker\, two break-out sessions for sharing\, and the popular “Ask-It Basket” where attendees will be able to pose questions to members of our fellowship with long term sobriety.ADMISSION IS FREE\, but you must register to attend with the following link: http://bit.ly/2021WinterWorkshop. Please consider a suggested donation of $3 if donations are in your spending plan. Donations support Houston Intergroup to pay for Zoom. Donations can be made via the PayPal app @AugustineFellowship or online https://slaa-houston.org/events.  Flyer For This Event: IG Winter Workshop.jpgWe look forward to seeing you there.
URL:https://slaanei.org/event/love-will-be-a-choice-virtual-workshop-houston-slaa
CATEGORIES:Gatherings,non-NEI
END:VEVENT
END:VCALENDAR