BEGIN:VCALENDAR
VERSION:2.0
PRODID:-//New England Intergroup - ECPv6.15.11//NONSGML v1.0//EN
CALSCALE:GREGORIAN
METHOD:PUBLISH
X-ORIGINAL-URL:https://slaanei.org
X-WR-CALDESC:Events for New England Intergroup
REFRESH-INTERVAL;VALUE=DURATION:PT1H
X-Robots-Tag:noindex
X-PUBLISHED-TTL:PT1H
BEGIN:VTIMEZONE
TZID:America/New_York
BEGIN:DAYLIGHT
TZOFFSETFROM:-0500
TZOFFSETTO:-0400
TZNAME:EDT
DTSTART:20240310T070000
END:DAYLIGHT
BEGIN:STANDARD
TZOFFSETFROM:-0400
TZOFFSETTO:-0500
TZNAME:EST
DTSTART:20241103T060000
END:STANDARD
BEGIN:DAYLIGHT
TZOFFSETFROM:-0500
TZOFFSETTO:-0400
TZNAME:EDT
DTSTART:20250309T070000
END:DAYLIGHT
BEGIN:STANDARD
TZOFFSETFROM:-0400
TZOFFSETTO:-0500
TZNAME:EST
DTSTART:20251102T060000
END:STANDARD
BEGIN:DAYLIGHT
TZOFFSETFROM:-0500
TZOFFSETTO:-0400
TZNAME:EDT
DTSTART:20260308T070000
END:DAYLIGHT
BEGIN:STANDARD
TZOFFSETFROM:-0400
TZOFFSETTO:-0500
TZNAME:EST
DTSTART:20261101T060000
END:STANDARD
END:VTIMEZONE
BEGIN:VEVENT
DTSTART;TZID=America/New_York:20250216T120000
DTEND;TZID=America/New_York:20250216T160000
DTSTAMP:20260424T151513
CREATED:20240217T162832Z
LAST-MODIFIED:20250121T230546Z
UID:7559-1739707200-1739721600@slaanei.org
SUMMARY:2025 Capital Region Intergroup SLAA-A-THON
DESCRIPTION:2025 Capital Region Intergroup SLAA-A-THON\nTheme: “12 Principles of AA”\nSunday February 16 Beginning at 12:00 p.m. ET\nThis year capital region intergroup SLAA-A-THON will again be online via Zoom. This year’s SLAA-A-THON theme is “12 Principles of AA”. \nIn Person:\nCapital District Recovery Center\n45 Colvin Ave. (2nd Floor)\nAlbany\, NY 12206\nZoom Meeting Info TBD\nFor further info:\nhttps://capitalregion-slaa.org/slaa-a-thon
URL:https://slaanei.org/event/capitalregion2025slaa-a-thon
LOCATION:MA
END:VEVENT
BEGIN:VEVENT
DTSTART;TZID=America/New_York:20250216T140000
DTEND;TZID=America/New_York:20250216T180000
DTSTAMP:20260424T151513
CREATED:20241114T230916Z
LAST-MODIFIED:20250216T143425Z
UID:7668-1739714400-1739728800@slaanei.org
SUMMARY:We Are Not Alone Get Together 2025-UPDATE
DESCRIPTION:UPDATE SUNDAY FEBRUARY 16 @ 9:30am \nHappy Sunday.\n\nSince the travel conditions are bad today we changed our event to just zoom.\n\n\nDue to the weather and conditions\, the in-person part of our event will not take place. Zoom will open at 2:30p for fellowship and the meeting will start at 3:00p. We will keep the zoom open for fellowship after the meeting til 4:30pm. Hope to see you there. We are not alone. \n\n\nZoom Meeting ID:    365 438 1821          Passcode: 123123 \nURL:  https://us02web.zoom.us/j/3654381821?pwd=K1VmZTZySGpxT2V6NFJlMjhFREJZdz09&omn=83833582411\n(if link doesn’t work\, copy and paste it to a browser) \n\n\n  \n  \nWe Are Not Alone mtg flyer 2-16-2025 v3 \nWe Are Not Alone Get Together \nSunday\, February 16\, 2025 | 2:00–6:00pm EST \nOpen Meeting– family\, friends\, & significant others welcome. \nSpeaker/Discussion Meeting with\nGames\, Music & Fellowship to Follow!!! \nSunday\, February 16\, 2025\n2:00-3:00 pm – Fellowship/Pot Luck\n3:00-4:00 pm – Speaker/Discussion Meeting\n4:00-6:00pm – Games\, Snacks\, Music and Fellowship \n WHERE: Grace Episcopal Church\, 76 Eldredge St\, Newton\, MA\nThis facility is wheelchair accessible. \nWHY: Valentine’s Day can be a struggle\, so get some extra support and fellowship to help stay sober. \nWHAT: This is an open meeting – family\, friends\, and significant others are\nwelcome. Hear and share experience\, strength\, and hope while\nsocializing with others in recovery. It’s a chance to meet new friends\nand enjoy a sober evening. \nBRING: In Person – please bring a dinner item\, snack\, or drink to share.\n(If you make a food item\, please include a list of ingredients as some have\nfood allergies.) \n Games\, musical instruments\, etc.\nCOST: Suggested donation $10 – more if you can\, less if you can’t. –\nNo one will be turned away! Cost is to cover the hall rental \nOn-Line:\n \nThe meeting portion of the event (3:00-4:00pm EST) will be via Zoom as well as in person. If there are adverse weather conditions\, NEI will post a notice on the website www.slaanei.org by 10:00 am on the day of the event and the event will be via Zoom from 3:00-4:30pm EST). \nZoom Meeting ID:    365 438 1821          Passcode: 123123 \nURL:  https://us02web.zoom.us/j/3654381821?pwd=K1VmZTZySGpxT2V6NFJlMjhFREJZdz09&omn=83833582411\n(if link doesn’t work\, copy and paste it to a browser) \nHere is the Flyer with more details and directions:\nWe Are Not Alone mtg flyer 2-16-2025 v3 \nPlease note the Bad Weather guidance: \nQuestions:  You can leave a message at 617-625-7961 and your call will be returned or email us at activities@slaanei.org \nHosted by the  \nNew England Intergroup of S.L.A.A. \nContact the activities committee with any questions: activities@slaanei.org
URL:https://slaanei.org/event/we-are-not-alone-together-2025
LOCATION:Grace Episcopal Church\, 76 Eldridge St\, Newton\, MA\, 02458\, United States
END:VEVENT
END:VCALENDAR